BEGIN:VCALENDAR
VERSION:2.0
PRODID:-//wp-events-plugin.com//7.2.3.1//EN
TZID:America/New_York
X-WR-TIMEZONE:America/New_York
BEGIN:VEVENT
UID:11578@findingconnecticut.com
DTSTART;TZID=America/New_York:20260205T100000
DTEND;TZID=America/New_York:20260205T120000
DTSTAMP:20250627T182838Z
URL:https://findingconnecticut.com/events/george-washing-carver-and-friend
 s-the-bushnell-february-5-2026-10-am/
SUMMARY:George Washing Carver and Friends
DESCRIPTION:George Washing Carver and Friends\nFebruary 5 2026  • 10 am\
 n\n Click here for more information \n\n The Bushnell\n166 Capitol Ave\
 nHartford\, CT 06106\n\n Click here to return to Finding Connecticut's ho
 me page\nAs of March 2025\, all event listings require payment.\nTo submit
  your event\, please send the event details along with a photo and/or logo
  to submissions at findingconnecticut dot com. You can complete your payme
 nt here\nYour event will be published within 24 hours after both payment 
 and all required information have been received.\nWe offer discounts for m
 ultiple event listings.\nThank you for supporting Finding Connecticut—y
 our participation helps us grow our website and brand.\n(We do not publish
  any content that has to do with areas outside of Connecticut. If you are 
 looking to post on our Hudson Valley or New York City pages\, then contact
  us via email.)\n\n\n[caption id="attachment_16083" align="alignnone" widt
 h="300"] shop.findingconnecticut.com[/caption]\n\n&nbsp\;
ATTACH;FMTTYPE=image/jpeg:https://findingconnecticut.com/wp-content/upload
 s/2025/05/unnamed-57.png
CATEGORIES:Hartford
LOCATION:The Bushnell\, 166 Capitol Ave\, \, Hartford\,\, Connecticut\, \, 
 06106\, \, New England\, \, United States
X-APPLE-STRUCTURED-LOCATION;VALUE=URI;X-ADDRESS=166 Capitol Ave\, \, Hartfo
 rd\,\, Connecticut\, \, 06106\, \, New England\, \, United States;X-APPLE-
 RADIUS=100;X-TITLE=The Bushnell:geo:0,0
END:VEVENT
BEGIN:VTIMEZONE
TZID:America/New_York
X-LIC-LOCATION:America/New_York
BEGIN:STANDARD
DTSTART:20251102T010000
TZOFFSETFROM:-0400
TZOFFSETTO:-0500
TZNAME:EST
END:STANDARD
END:VTIMEZONE
END:VCALENDAR