BEGIN:VCALENDAR
VERSION:2.0
PRODID:-//wp-events-plugin.com//7.2.3.1//EN
TZID:America/New_York
X-WR-TIMEZONE:America/New_York
BEGIN:VEVENT
UID:14794@findingconnecticut.com
DTSTART;TZID=America/New_York:20260502T200000
DTEND;TZID=America/New_York:20260502T220000
DTSTAMP:20260310T161343Z
URL:https://findingconnecticut.com/events/gary-gulman-the-bushnell-hartfor
 d-ct-may-2-2026/
SUMMARY:Gary Gulman
DESCRIPTION:Gary Gulman\nMay 2 2026  • 8 pm\n\n Click here for more inf
 ormation \n\n The Bushnell\n166 Capitol Ave\nHartford\, CT 06106\n\n Cl
 ick here to return to Finding Connecticut's home page\n\nTo add an event p
 lease email us\, we monitor for spam. We need a photo\, description and we
 bsite for each submission - We do not accept submissions that are within t
 he next 3 days. submissions@findingconnecticut.com\n\n[caption id="attachm
 ent_16083" align="alignnone" width="300"] shop.findingconnecticut.com[/cap
 tion]\n\n&nbsp\;
ATTACH;FMTTYPE=image/jpeg:https://findingconnecticut.com/wp-content/upload
 s/2026/03/GaryGulman1080x1080.jpg
CATEGORIES:Hartford
LOCATION:The Bushnell\, 166 Capitol Ave\, \, Hartford\,\, Connecticut\, \, 
 06106\, \, New England\, \, United States
X-APPLE-STRUCTURED-LOCATION;VALUE=URI;X-ADDRESS=166 Capitol Ave\, \, Hartfo
 rd\,\, Connecticut\, \, 06106\, \, New England\, \, United States;X-APPLE-
 RADIUS=100;X-TITLE=The Bushnell:geo:0,0
END:VEVENT
BEGIN:VTIMEZONE
TZID:America/New_York
X-LIC-LOCATION:America/New_York
BEGIN:DAYLIGHT
DTSTART:20260308T030000
TZOFFSETFROM:-0500
TZOFFSETTO:-0400
TZNAME:EDT
END:DAYLIGHT
END:VTIMEZONE
END:VCALENDAR