BEGIN:VCALENDAR
VERSION:2.0
PRODID:-//wp-events-plugin.com//7.2.3.1//EN
TZID:America/New_York
X-WR-TIMEZONE:America/New_York
BEGIN:VEVENT
UID:5823@findingconnecticut.com
DTSTART;TZID=America/New_York:20240517T190000
DTEND;TZID=America/New_York:20240517T230000
DTSTAMP:20240503T184120Z
URL:https://findingconnecticut.com/events/gallery-of-games/
SUMMARY:Gallery of Games
DESCRIPTION:Gallery of Games\nMay 17\,  2024\n Click here for more inform
 ation \n\n MoCA Westport\n 19 Newtown Turnpike\n Westport\, Connecticu
 t 06880\n\nTo add an event please email us\, we monitor for spam. We need 
 a photo\, description and website for each submission - We do not accept s
 ubmissions that are within the next 3 days. submissions at findingconnecti
 cut.com\n\n[caption id="attachment_16083" align="alignnone" width="300"] s
 hop.findingconnecticut.com[/caption]\n\n 
ATTACH;FMTTYPE=image/jpeg:https://findingconnecticut.com/wp-content/upload
 s/2024/05/image0-2.png
CATEGORIES:Westport
LOCATION:MoCA Westport\, 19 Newtown Turnpike \, Westport\, Connecticut\, 06
 880\, New England \, United States
X-APPLE-STRUCTURED-LOCATION;VALUE=URI;X-ADDRESS=19 Newtown Turnpike \, West
 port\, Connecticut\, 06880\, New England \, United States;X-APPLE-RADIUS=1
 00;X-TITLE=MoCA Westport:geo:0,0
END:VEVENT
BEGIN:VTIMEZONE
TZID:America/New_York
X-LIC-LOCATION:America/New_York
BEGIN:DAYLIGHT
DTSTART:20240310T030000
TZOFFSETFROM:-0500
TZOFFSETTO:-0400
TZNAME:EDT
END:DAYLIGHT
END:VTIMEZONE
END:VCALENDAR