BEGIN:VCALENDAR
VERSION:2.0
PRODID:-//wp-events-plugin.com//7.2.3.1//EN
TZID:America/New_York
X-WR-TIMEZONE:America/New_York
BEGIN:VEVENT
UID:6163@findingconnecticut.com
DTSTART;TZID=America/New_York:20240623T130000
DTEND;TZID=America/New_York:20240623T153000
DTSTAMP:20240525T204528Z
URL:https://findingconnecticut.com/events/funny-girl-7/
SUMMARY:Funny Girl
DESCRIPTION:Funny Girl\nJune 23\, 2024  • 1PM\n\n Click here for more i
 nformation \n\n The Bushnell\n166 Capitol Ave\nHartford\, CT 06106\n\n 
 Click here to return to Finding Connecticut's home page\n\nTo add an event
  please email us\, we monitor for spam. We need a photo\, description and 
 website for each submission - We do not accept submissions that are within
  the next 3 days. submissions@findingconnecticut.com\n\n[caption id="attac
 hment_16083" align="alignnone" width="300"] shop.findingconnecticut.com[/c
 aption]\n\n&nbsp\;
ATTACH;FMTTYPE=image/jpeg:https://findingconnecticut.com/wp-content/upload
 s/2024/05/unnamed-30.jpg
CATEGORIES:Hartford
LOCATION:The Bushnell\, 166 Capitol Ave\, \, Hartford\,\, Connecticut\, \, 
 06106\, \, New England\, \, United States
X-APPLE-STRUCTURED-LOCATION;VALUE=URI;X-ADDRESS=166 Capitol Ave\, \, Hartfo
 rd\,\, Connecticut\, \, 06106\, \, New England\, \, United States;X-APPLE-
 RADIUS=100;X-TITLE=The Bushnell:geo:0,0
END:VEVENT
BEGIN:VTIMEZONE
TZID:America/New_York
X-LIC-LOCATION:America/New_York
BEGIN:DAYLIGHT
DTSTART:20240310T030000
TZOFFSETFROM:-0500
TZOFFSETTO:-0400
TZNAME:EDT
END:DAYLIGHT
END:VTIMEZONE
END:VCALENDAR