BEGIN:VCALENDAR
VERSION:2.0
PRODID:-//wp-events-plugin.com//7.2.3.1//EN
TZID:America/New_York
X-WR-TIMEZONE:America/New_York
BEGIN:VEVENT
UID:6160@findingconnecticut.com
DTSTART;TZID=America/New_York:20240621T200000
DTEND;TZID=America/New_York:20240621T223000
DTSTAMP:20240525T203700Z
URL:https://findingconnecticut.com/events/funny-girl-4/
SUMMARY:Funny Girl
DESCRIPTION:Funny Girl\nJune 21\, 2024  • 8 PM\n\n Click here for more 
 information \n\n The Bushnell\n166 Capitol Ave\nHartford\, CT 06106\n\n
  Click here to return to Finding Connecticut's home page\n\nTo add an eve
 nt please email us\, we monitor for spam. We need a photo\, description an
 d website for each submission - We do not accept submissions that are with
 in the next 3 days. submissions@findingconnecticut.com\n\n[caption id="att
 achment_16083" align="alignnone" width="300"] shop.findingconnecticut.com[
 /caption]\n\n&nbsp\;
ATTACH;FMTTYPE=image/jpeg:https://findingconnecticut.com/wp-content/upload
 s/2024/05/unnamed-30.jpg
CATEGORIES:Hartford
LOCATION:The Bushnell\, 166 Capitol Ave\, \, Hartford\,\, Connecticut\, \, 
 06106\, \, New England\, \, United States
X-APPLE-STRUCTURED-LOCATION;VALUE=URI;X-ADDRESS=166 Capitol Ave\, \, Hartfo
 rd\,\, Connecticut\, \, 06106\, \, New England\, \, United States;X-APPLE-
 RADIUS=100;X-TITLE=The Bushnell:geo:0,0
END:VEVENT
BEGIN:VTIMEZONE
TZID:America/New_York
X-LIC-LOCATION:America/New_York
BEGIN:DAYLIGHT
DTSTART:20240310T030000
TZOFFSETFROM:-0500
TZOFFSETTO:-0400
TZNAME:EDT
END:DAYLIGHT
END:VTIMEZONE
END:VCALENDAR