BEGIN:VCALENDAR
VERSION:2.0
PRODID:-//wp-events-plugin.com//7.2.3.1//EN
TZID:America/New_York
X-WR-TIMEZONE:America/New_York
BEGIN:VEVENT
UID:2036@findingconnecticut.com
DTSTART;TZID=America/New_York:20230806T150000
DTEND;TZID=America/New_York:20230806T200000
DTSTAMP:20230725T214628Z
URL:https://findingconnecticut.com/events/fun-fore-scholarships/
SUMMARY:Fun Fore Scholarships
DESCRIPTION:Fun Fore Scholarships\nAugust 6\, 2023\nClick here for more inf
 ormation \n\nTo add an event please email us\, we monitor for spam. We ne
 ed a photo\, description and website for each submission - We do not accep
 t submissions that are within the next 3 days. submissions at findingconne
 cticut.com  \n\n&nbsp\;\n\n[caption id="attachment_16083" align="alignno
 ne" width="300"] shop.findingconnecticut.com[/caption]
ATTACH;FMTTYPE=image/jpeg:https://findingconnecticut.com/wp-content/upload
 s/2023/07/999D8C1D-8A0D-4A66-AC82-EBDA9A2CB18B.jpg
CATEGORIES:Fairfield
LOCATION:Golf Lounge 18\, Mill Plain Road\, Fairfield\, Connecticut \, 0682
 4\, New England \, United States
X-APPLE-STRUCTURED-LOCATION;VALUE=URI;X-ADDRESS=Mill Plain Road\, Fairfield
 \, Connecticut \, 06824\, New England \, United States;X-APPLE-RADIUS=100;
 X-TITLE=Golf Lounge 18:geo:0,0
END:VEVENT
BEGIN:VTIMEZONE
TZID:America/New_York
X-LIC-LOCATION:America/New_York
BEGIN:DAYLIGHT
DTSTART:20230312T030000
TZOFFSETFROM:-0500
TZOFFSETTO:-0400
TZNAME:EDT
END:DAYLIGHT
END:VTIMEZONE
END:VCALENDAR