BEGIN:VCALENDAR
VERSION:2.0
PRODID:-//wp-events-plugin.com//7.2.3.1//EN
TZID:America/New_York
X-WR-TIMEZONE:America/New_York
BEGIN:VEVENT
UID:6106@findingconnecticut.com
DTSTART;TZID=America/New_York:20240523T180000
DTEND;TZID=America/New_York:20240523T191500
DTSTAMP:20240511T125014Z
URL:https://findingconnecticut.com/events/full-moon-sound-meditation-at-ly
 man-orchards/
SUMMARY:Full Moon Sound Meditation at Lyman Orchards
DESCRIPTION:Full Moon Sound Meditation at Lyman Orchards\nMay 23\,  2024 
  • 6 pm - 7:15 pm\n Click here for more information \n\n Lyman Orcha
 rds\nPowder Hill Rd\nMiddlefield\, CT 06455\n\nTo add an event please emai
 l us\, we monitor for spam. We need a photo\, description and website for 
 each submission - We do not accept submissions that are within the next 3 
 days. submissions at findingconnecticut.com  \n\n[caption id="attachment
 _16083" align="alignnone" width="300"] shop.findingconnecticut.com[/captio
 n]\n\n&nbsp\;
ATTACH;FMTTYPE=image/jpeg:https://findingconnecticut.com/wp-content/upload
 s/2024/05/Full-Moon-Mediation-Website.jpg
CATEGORIES:Middlefield
LOCATION:Lyman Orchards\, Powder Hill Rd\, Middlefield \, Connecticut\, 064
 55\, United States
X-APPLE-STRUCTURED-LOCATION;VALUE=URI;X-ADDRESS=Powder Hill Rd\, Middlefiel
 d \, Connecticut\, 06455\, United States;X-APPLE-RADIUS=100;X-TITLE=Lyman 
 Orchards:geo:0,0
END:VEVENT
BEGIN:VTIMEZONE
TZID:America/New_York
X-LIC-LOCATION:America/New_York
BEGIN:DAYLIGHT
DTSTART:20240310T030000
TZOFFSETFROM:-0500
TZOFFSETTO:-0400
TZNAME:EDT
END:DAYLIGHT
END:VTIMEZONE
END:VCALENDAR