BEGIN:VCALENDAR
VERSION:2.0
PRODID:-//wp-events-plugin.com//7.2.3.1//EN
TZID:America/New_York
X-WR-TIMEZONE:America/New_York
BEGIN:VEVENT
UID:2260@findingconnecticut.com
DTSTART;TZID=America/New_York:20230910T200000
DTEND;TZID=America/New_York:20230910T223000
DTSTAMP:20230816T215629Z
URL:https://findingconnecticut.com/events/freaks-on-parade-tour-with-rob-z
 ombie-and-alice-cooper/
SUMMARY:Freaks on Parade Tour with Rob Zombie and Alice Cooper
DESCRIPTION:Freaks on Parade Tour with Rob Zombie and Alice Cooper\nSeptemb
 er 10\, 2023\n Click here for more information on Filter \n\n Xfinity T
 heatre \n61 Savitt Way\nHartford\, CT 06120\n\nTo add an event please emai
 l us\, we monitor for spam. We need a photo\, description and website for 
 each submission - We do not accept submissions that are within the next 3 
 days. submissions at findingconnecticut.com  \n\n[caption id="attachment
 _16083" align="alignnone" width="300"] shop.findingconnecticut.com[/captio
 n]
ATTACH;FMTTYPE=image/jpeg:https://findingconnecticut.com/wp-content/upload
 s/2023/08/unnamed-2-1.jpg
CATEGORIES:Hartford
LOCATION:The Meadows Music Theatre\, 61 Savitt Way\, \, Hartford\,\, Connec
 ticut\, \, 06120\,\, New England \, United States
X-APPLE-STRUCTURED-LOCATION;VALUE=URI;X-ADDRESS=61 Savitt Way\, \, Hartford
 \,\, Connecticut\, \, 06120\,\, New England \, United States;X-APPLE-RADIU
 S=100;X-TITLE=The Meadows Music Theatre:geo:0,0
END:VEVENT
BEGIN:VTIMEZONE
TZID:America/New_York
X-LIC-LOCATION:America/New_York
BEGIN:DAYLIGHT
DTSTART:20230312T030000
TZOFFSETFROM:-0500
TZOFFSETTO:-0400
TZNAME:EDT
END:DAYLIGHT
END:VTIMEZONE
END:VCALENDAR