BEGIN:VCALENDAR
VERSION:2.0
PRODID:-//wp-events-plugin.com//7.2.3.1//EN
TZID:America/New_York
X-WR-TIMEZONE:America/New_York
BEGIN:VEVENT
UID:488@findingconnecticut.com
DTSTART;TZID=America/New_York:20231201T200000
DTEND;TZID=America/New_York:20231201T223000
DTSTAMP:20230531T200831Z
URL:https://findingconnecticut.com/events/frankie-valli/
SUMMARY:Frankie Valli
DESCRIPTION:Frankie Valli\nDecember 1\, 2023  •  8 PM\n\n Click here f
 or more information \n Mohegan Sun \n1 Mohegan Sun Blvd.\nUncasville\, C
 T 06382\n To add an event please email us\, we monitor for spam. We need 
 a photo\, description and website for each submission - We do not accept s
 ubmissions that are within the next 3 days. submissions@findingconnecticut
 .com\n\n\n[caption id="attachment_16083" align="alignnone" width="300"] sh
 op.findingconnecticut.com[/caption]
ATTACH;FMTTYPE=image/jpeg:https://findingconnecticut.com/wp-content/upload
 s/2023/02/unnamed-250.jpg
CATEGORIES:Uncasville
LOCATION:Mohegan Sun\, 1 Mohegan Sun Blvd\, \, Uncasville\, \, Connecticut\
 , \, 06382\, New England \, United States
X-APPLE-STRUCTURED-LOCATION;VALUE=URI;X-ADDRESS=1 Mohegan Sun Blvd\, \, Unc
 asville\, \, Connecticut\, \, 06382\, New England \, United States;X-APPLE
 -RADIUS=100;X-TITLE=Mohegan Sun:geo:0,0
END:VEVENT
BEGIN:VTIMEZONE
TZID:America/New_York
X-LIC-LOCATION:America/New_York
BEGIN:STANDARD
DTSTART:20231105T010000
TZOFFSETFROM:-0400
TZOFFSETTO:-0500
TZNAME:EST
END:STANDARD
END:VTIMEZONE
END:VCALENDAR