BEGIN:VCALENDAR
VERSION:2.0
PRODID:-//wp-events-plugin.com//7.2.3.1//EN
TZID:America/New_York
X-WR-TIMEZONE:America/New_York
BEGIN:VEVENT
UID:171@findingconnecticut.com
DTSTART;TZID=America/New_York:20230310T100000
DTEND;TZID=America/New_York:20230427T170000
DTSTAMP:20230131T210406Z
URL:https://findingconnecticut.com/events/four-acts/
SUMMARY:“Four Acts” at Lyme Art Association
DESCRIPTION:"Four Acts"\nMarch 10\, 2023 - April 27\, 2023\n10 am - 5 PM\n\
 nThe Lyme Art Association invites you to its historic galleries this Mar
 ch to see Four Acts\, an exhibition showcasing the diversity of styles cr
 eated by its talented member artists. Each juried show looks at the world 
 through a different lens: Long &amp\; Lean\, Abstracted\, Off the Press 
 and Stillness: A Still Life.\n\nFor more information click here\n\nLyme A
 rt Association\n90 Lyme Street\nOld Lyme\, CT 06371\nTo add an event pleas
 e email us\, we monitor for spam. We need a photo\, description and websit
 e for each submission - We do not accept submissions that are within the n
 ext 3 days. submissions@findingconnecticut.com\n\n\n[caption id="attachmen
 t_16083" align="alignnone" width="300"] shop.findingconnecticut.com[/capti
 on]
ATTACH;FMTTYPE=image/jpeg:https://findingconnecticut.com/wp-content/upload
 s/2023/01/Brown-Diane_In-Living-Color-3-scaled.jpg
CATEGORIES:Old Lyme
LOCATION:Lyme Art Association\, 90 Lyme Street\, Old Lyme\, Connecticut\, 0
 6371\, New England\, United States
X-APPLE-STRUCTURED-LOCATION;VALUE=URI;X-ADDRESS=90 Lyme Street\, Old Lyme\,
  Connecticut\, 06371\, New England\, United States;X-APPLE-RADIUS=100;X-TI
 TLE=Lyme Art Association:geo:0,0
END:VEVENT
BEGIN:VTIMEZONE
TZID:America/New_York
X-LIC-LOCATION:America/New_York
BEGIN:STANDARD
DTSTART:20221106T010000
TZOFFSETFROM:-0400
TZOFFSETTO:-0500
TZNAME:EST
END:STANDARD
BEGIN:DAYLIGHT
DTSTART:20230312T030000
TZOFFSETFROM:-0500
TZOFFSETTO:-0400
TZNAME:EDT
END:DAYLIGHT
END:VTIMEZONE
END:VCALENDAR