BEGIN:VCALENDAR
VERSION:2.0
PRODID:-//wp-events-plugin.com//7.2.3.1//EN
TZID:America/New_York
X-WR-TIMEZONE:America/New_York
BEGIN:VEVENT
UID:1808@findingconnecticut.com
DTSTART;TZID=America/New_York:20230708T130000
DTEND;TZID=America/New_York:20230708T200000
DTSTAMP:20230629T153954Z
URL:https://findingconnecticut.com/events/floatswella/
SUMMARY:Floatswella
DESCRIPTION:Floatswella\nJuly 8\, 2023  •  1 PM\nClick here for more in
 formation \n\nTo add an event please email us\, we monitor for spam. We n
 eed a photo\, description and website for each submission - We do not acce
 pt submissions that are within the next 3 days. submissions at findingconn
 ecticut.com  \n\n[caption id="attachment_16083" align="alignnone" width=
 "300"] shop.findingconnecticut.com[/caption]
ATTACH;FMTTYPE=image/jpeg:https://findingconnecticut.com/wp-content/upload
 s/2023/06/image002-1.jpg
CATEGORIES:Mystic
END:VEVENT
BEGIN:VTIMEZONE
TZID:America/New_York
X-LIC-LOCATION:America/New_York
BEGIN:DAYLIGHT
DTSTART:20230312T030000
TZOFFSETFROM:-0500
TZOFFSETTO:-0400
TZNAME:EDT
END:DAYLIGHT
END:VTIMEZONE
END:VCALENDAR