BEGIN:VCALENDAR
VERSION:2.0
PRODID:-//wp-events-plugin.com//7.2.3.1//EN
TZID:America/New_York
X-WR-TIMEZONE:America/New_York
BEGIN:VEVENT
UID:1798@findingconnecticut.com
DTSTART;TZID=America/New_York:20230707T190000
DTEND;TZID=America/New_York:20230707T210000
DTSTAMP:20230626T010125Z
URL:https://findingconnecticut.com/events/flight-on-the-farm/
SUMMARY:Flight on the Farm
DESCRIPTION:Flight on the Farm\nJuly 7\, 2023 • 7 PM\n Click here for mo
 re information \n\n Lyman Orchards\nPowder Hill Rd\nMiddlefield\, CT 064
 55\n\nTo add an event please email us\, we monitor for spam. We need a pho
 to\, description and website for each submission - We do not accept submis
 sions that are within the next 3 days. submissions at findingconnecticut.c
 om  \n\n[caption id="attachment_16083" align="alignnone" width="300"] sh
 op.findingconnecticut.com[/caption]
ATTACH;FMTTYPE=image/jpeg:https://findingconnecticut.com/wp-content/upload
 s/2023/06/Hot-air-balloon-flight-website-1.jpg
CATEGORIES:Middlefield
LOCATION:Lyman Orchards\, Powder Hill Rd\, Middlefield \, Connecticut\, 064
 55\, United States
X-APPLE-STRUCTURED-LOCATION;VALUE=URI;X-ADDRESS=Powder Hill Rd\, Middlefiel
 d \, Connecticut\, 06455\, United States;X-APPLE-RADIUS=100;X-TITLE=Lyman 
 Orchards:geo:0,0
END:VEVENT
BEGIN:VTIMEZONE
TZID:America/New_York
X-LIC-LOCATION:America/New_York
BEGIN:DAYLIGHT
DTSTART:20230312T030000
TZOFFSETFROM:-0500
TZOFFSETTO:-0400
TZNAME:EDT
END:DAYLIGHT
END:VTIMEZONE
END:VCALENDAR