BEGIN:VCALENDAR
VERSION:2.0
PRODID:-//wp-events-plugin.com//7.2.3.1//EN
TZID:America/New_York
X-WR-TIMEZONE:America/New_York
BEGIN:VEVENT
UID:1807@findingconnecticut.com
DTSTART;TZID=America/New_York:20230708T140000
DTEND;TZID=America/New_York:20230708T160000
DTSTAMP:20230627T232300Z
URL:https://findingconnecticut.com/events/flag-bearers-exhibition/
SUMMARY:Flag Bearers exhibition
DESCRIPTION:Flag Bearers exhibition\nJuly 8\, 2023\n Click here for more i
 nformation \n\nThe Gallery at Still River Editions\n128 E Liberty St #3\,
 \nDanbury\, CT 06810\n\nTo add an event please email us\, we monitor for s
 pam. We need a photo\, description and website for each submission - We do
  not accept submissions that are within the next 3 days. submissions at fi
 ndingconnecticut.com  \n\n[caption id="attachment_16083" align="alignnon
 e" width="300"] shop.findingconnecticut.com[/caption]
ATTACH;FMTTYPE=image/jpeg:https://findingconnecticut.com/wp-content/upload
 s/2023/06/Jennie_Carr_Liberty__Justice_for_ALL.jpg
CATEGORIES:Danbury
LOCATION:The Gallery at Still River Editions\, 128 E Liberty St #3\, Danbur
 y\, Connecticut \, 06810\, New England \, United States
X-APPLE-STRUCTURED-LOCATION;VALUE=URI;X-ADDRESS=128 E Liberty St #3\, Danbu
 ry\, Connecticut \, 06810\, New England \, United States;X-APPLE-RADIUS=10
 0;X-TITLE=The Gallery at Still River Editions:geo:0,0
END:VEVENT
BEGIN:VTIMEZONE
TZID:America/New_York
X-LIC-LOCATION:America/New_York
BEGIN:DAYLIGHT
DTSTART:20230312T030000
TZOFFSETFROM:-0500
TZOFFSETTO:-0400
TZNAME:EDT
END:DAYLIGHT
END:VTIMEZONE
END:VCALENDAR