BEGIN:VCALENDAR
VERSION:2.0
PRODID:-//wp-events-plugin.com//7.2.3.1//EN
TZID:America/New_York
X-WR-TIMEZONE:America/New_York
BEGIN:VEVENT
UID:1833@findingconnecticut.com
DTSTART;TZID=America/New_York:20230902T160000
DTEND;TZID=America/New_York:20230902T200000
DTSTAMP:20230704T235018Z
URL:https://findingconnecticut.com/events/farmington-polo-club-8/
SUMMARY:Farmington Polo Club
DESCRIPTION:Farmington Polo Club\nSeptembe 2 \, 2023  •  4 PM\n Click 
 here for more information \n\n Farmington Polo Club \n162 Town Farm Rd\
 nFarmington\, CT 06032\n\nTo add an event please email us\, we monitor for
  spam. We need a photo\, description and website for each submission - We 
 do not accept submissions that are within the next 3 days. submissions at 
 findingconnecticut.com  \n\n&nbsp\;\n\n[caption id="attachment_16083" al
 ign="alignnone" width="300"] shop.findingconnecticut.com[/caption]
ATTACH;FMTTYPE=image/jpeg:https://findingconnecticut.com/wp-content/upload
 s/2023/07/image0-1.jpeg
CATEGORIES:Farmington
LOCATION:Farmington Polo Club\, 162 Town Farm Rd\, Farmington\, Connecticut
  \, 06032\, New England\, United States
X-APPLE-STRUCTURED-LOCATION;VALUE=URI;X-ADDRESS=162 Town Farm Rd\, Farmingt
 on\, Connecticut \, 06032\, New England\, United States;X-APPLE-RADIUS=100
 ;X-TITLE=Farmington Polo Club:geo:0,0
END:VEVENT
BEGIN:VTIMEZONE
TZID:America/New_York
X-LIC-LOCATION:America/New_York
BEGIN:DAYLIGHT
DTSTART:20230312T030000
TZOFFSETFROM:-0500
TZOFFSETTO:-0400
TZNAME:EDT
END:DAYLIGHT
END:VTIMEZONE
END:VCALENDAR