BEGIN:VCALENDAR
VERSION:2.0
PRODID:-//wp-events-plugin.com//7.2.3.1//EN
TZID:America/New_York
X-WR-TIMEZONE:America/New_York
BEGIN:VEVENT
UID:1830@findingconnecticut.com
DTSTART;TZID=America/New_York:20230805T170000
DTEND;TZID=America/New_York:20230805T210000
DTSTAMP:20230704T234503Z
URL:https://findingconnecticut.com/events/farmington-polo-club-5/
SUMMARY:Farmington Polo Club
DESCRIPTION:Farmington Polo Club\nAugust 5\, 2023 • 5 PM\n Click here fo
 r more information \n\n Farmington Polo Club \n162 Town Farm Rd\nFarmin
 gton\, CT 06032\n\nTo add an event please email us\, we monitor for spam. 
 We need a photo\, description and website for each submission - We do not 
 accept submissions that are within the next 3 days. submissions at finding
 connecticut.com  \n\n&nbsp\;\n\n[caption id="attachment_16083" align="al
 ignnone" width="300"] shop.findingconnecticut.com[/caption]
ATTACH;FMTTYPE=image/jpeg:https://findingconnecticut.com/wp-content/upload
 s/2023/07/image0-1.jpeg
CATEGORIES:Farmington
LOCATION:Farmington Polo Club\, 162 Town Farm Rd\, Farmington\, Connecticut
  \, 06032\, New England\, United States
X-APPLE-STRUCTURED-LOCATION;VALUE=URI;X-ADDRESS=162 Town Farm Rd\, Farmingt
 on\, Connecticut \, 06032\, New England\, United States;X-APPLE-RADIUS=100
 ;X-TITLE=Farmington Polo Club:geo:0,0
END:VEVENT
BEGIN:VTIMEZONE
TZID:America/New_York
X-LIC-LOCATION:America/New_York
BEGIN:DAYLIGHT
DTSTART:20230312T030000
TZOFFSETFROM:-0500
TZOFFSETTO:-0400
TZNAME:EDT
END:DAYLIGHT
END:VTIMEZONE
END:VCALENDAR