BEGIN:VCALENDAR
VERSION:2.0
PRODID:-//wp-events-plugin.com//7.2.3.1//EN
TZID:America/New_York
X-WR-TIMEZONE:America/New_York
BEGIN:VEVENT
UID:1796@findingconnecticut.com
DTSTART;TZID=America/New_York:20230715T100000
DTEND;TZID=America/New_York:20230715T130000
DTSTAMP:20230625T135721Z
URL:https://findingconnecticut.com/events/family-day/
SUMMARY:Family Day
DESCRIPTION:Family Day\nJuly 15\, 2023 •  10 am\n Click here for more i
 nformation\n\n Lyme Art Association\n 90 Lyme Street\nOld Lyme\, CT 0637
 1\n\nTo add an event please email us\, we monitor for spam. We need a phot
 o\, description and website for each submission - We do not accept submiss
 ions that are within the next 3 days. submissions at findingconnecticut.co
 m  \n\n[caption id="attachment_16083" align="alignnone" width="300"] sho
 p.findingconnecticut.com[/caption]
ATTACH;FMTTYPE=image/jpeg:https://findingconnecticut.com/wp-content/upload
 s/2023/06/IMG_20210807_115504-1-scaled.jpg
CATEGORIES:Old Lyme
LOCATION:Lyme Art Association\, 90 Lyme Street\, Old Lyme\, Connecticut\, 0
 6371\, New England\, United States
X-APPLE-STRUCTURED-LOCATION;VALUE=URI;X-ADDRESS=90 Lyme Street\, Old Lyme\,
  Connecticut\, 06371\, New England\, United States;X-APPLE-RADIUS=100;X-TI
 TLE=Lyme Art Association:geo:0,0
END:VEVENT
BEGIN:VTIMEZONE
TZID:America/New_York
X-LIC-LOCATION:America/New_York
BEGIN:DAYLIGHT
DTSTART:20230312T030000
TZOFFSETFROM:-0500
TZOFFSETTO:-0400
TZNAME:EDT
END:DAYLIGHT
END:VTIMEZONE
END:VCALENDAR