BEGIN:VCALENDAR
VERSION:2.0
PRODID:-//wp-events-plugin.com//7.2.3.1//EN
TZID:America/New_York
X-WR-TIMEZONE:America/New_York
BEGIN:VEVENT
UID:1040@findingconnecticut.com
DTSTART;TZID=America/New_York:20230522T190000
DTEND;TZID=America/New_York:20230522T213000
DTSTAMP:20230501T194450Z
URL:https://findingconnecticut.com/events/ernest-thompson/
SUMMARY:Ernest Thompson
DESCRIPTION:Ernest Thompson\nMay 22\, 2023 • 7 PM\n\n Click here for mor
 e information  \n\n The Katherine Hepburn Cultural Arts Center\n300 Main
  Street\nOld Saybrook\, CT 06475\n\nTo add an event please email us\, we m
 onitor for spam. We need a photo\, description and website for each submis
 sion - We do not accept submissions that are within the next 3 days. submi
 ssions at findingconnecticut.com\n\n[caption id="attachment_16083" align="
 alignnone" width="300"] shop.findingconnecticut.com[/caption]
ATTACH;FMTTYPE=image/jpeg:https://findingconnecticut.com/wp-content/upload
 s/2023/05/image002-2.jpg
CATEGORIES:Old Saybrook
LOCATION:The Katherine Hepburn Culture Arts Center\, 300 Main Street\, \, O
 ld Saybrook\, \, Connecticut \, 06475\, New England \, United States
X-APPLE-STRUCTURED-LOCATION;VALUE=URI;X-ADDRESS=300 Main Street\, \, Old Sa
 ybrook\, \, Connecticut \, 06475\, New England \, United States;X-APPLE-RA
 DIUS=100;X-TITLE=The Katherine Hepburn Culture Arts Center:geo:0,0
END:VEVENT
BEGIN:VTIMEZONE
TZID:America/New_York
X-LIC-LOCATION:America/New_York
BEGIN:DAYLIGHT
DTSTART:20230312T030000
TZOFFSETFROM:-0500
TZOFFSETTO:-0400
TZNAME:EDT
END:DAYLIGHT
END:VTIMEZONE
END:VCALENDAR