BEGIN:VCALENDAR
VERSION:2.0
PRODID:-//wp-events-plugin.com//7.2.3.1//EN
TZID:America/New_York
X-WR-TIMEZONE:America/New_York
BEGIN:VEVENT
UID:450@findingconnecticut.com
DTSTART;TZID=America/New_York:20230923T090000
DTEND;TZID=America/New_York:20230923T120000
DTSTAMP:20230219T194153Z
URL:https://findingconnecticut.com/events/ellington-farmers-market-21/
SUMMARY:Ellington Farmers Market
DESCRIPTION:Ellington Farmers Market \nSeptember 23\, 2023  • 9 am - no
 on\n•\nArbor Park\nMain St.\nEllington\, CT 06029\n•\n40 full-time ven
 dors in the quaint country New England setting of Arbor Park. Farm product
 s\, seafood\, prepared foods\, and artisan wares.  Weekly themes\, guest 
 vendors\, and live music.  Kids Power of Produce Club\, matching SNAP and
  Farmers Market Nutrition Program vouchers. The market is held rain or shi
 ne.\n•\nTo add an event please email us\, we monitor for spam. We need a
  photo\, description and website for each submission - We do not accept su
 bmissions that are within the next 3 days. submissions@findingconnecticut.
 com\n•\n\n[caption id="attachment_16083" align="alignnone" width="300"] 
 shop.findingconnecticut.com[/caption]
ATTACH;FMTTYPE=image/jpeg:https://findingconnecticut.com/wp-content/upload
 s/2023/02/12f948_2e5f1047172b4ec98044b251111098de.webp
CATEGORIES:Ellington
LOCATION:Ellington Farmers Market\, Arbor Park\, Main Street\, Ellington\, 
 Connecticut\, 06029\, New England \, United States
X-APPLE-STRUCTURED-LOCATION;VALUE=URI;X-ADDRESS=Arbor Park\, Main Street\, 
 Ellington\, Connecticut\, 06029\, New England \, United States;X-APPLE-RAD
 IUS=100;X-TITLE=Ellington Farmers Market:geo:0,0
END:VEVENT
BEGIN:VTIMEZONE
TZID:America/New_York
X-LIC-LOCATION:America/New_York
BEGIN:DAYLIGHT
DTSTART:20230312T030000
TZOFFSETFROM:-0500
TZOFFSETTO:-0400
TZNAME:EDT
END:DAYLIGHT
END:VTIMEZONE
END:VCALENDAR