BEGIN:VCALENDAR
VERSION:2.0
PRODID:-//wp-events-plugin.com//7.2.3.1//EN
TZID:America/New_York
X-WR-TIMEZONE:America/New_York
BEGIN:VEVENT
UID:2955@findingconnecticut.com
DTSTART;TZID=America/New_York:20240221T200000
DTEND;TZID=America/New_York:20240221T223000
DTSTAMP:20231013T144847Z
URL:https://findingconnecticut.com/events/elevation-worship/
SUMMARY:Elevation Worship
DESCRIPTION:Elevation Worship\nFebruary 21\, 2024\n Click here for more in
 formation \n\n Total Mortgage Arena \n600 Main Street\nBridgeport\, CT 
 06604\n\nTo add an event please email us\, we monitor for spam. We need a 
 photo\, description and website for each submission - We do not accept sub
 missions that are within the next 3 days. submissions at findingconnecticu
 t.com  \n\n[caption id="attachment_16083" align="alignnone" width="300"]
  shop.findingconnecticut.com[/caption]
ATTACH;FMTTYPE=image/jpeg:https://findingconnecticut.com/wp-content/upload
 s/2023/10/unnamed-1.jpg
CATEGORIES:Bridgeport
LOCATION:Total Mortgage Arena\, 600 Main Street\, Bridgeport\, Connecticut\
 , 06604\, New England\, United States
X-APPLE-STRUCTURED-LOCATION;VALUE=URI;X-ADDRESS=600 Main Street\, Bridgepor
 t\, Connecticut\, 06604\, New England\, United States;X-APPLE-RADIUS=100;X
 -TITLE=Total Mortgage Arena:geo:0,0
END:VEVENT
BEGIN:VTIMEZONE
TZID:America/New_York
X-LIC-LOCATION:America/New_York
BEGIN:STANDARD
DTSTART:20231105T010000
TZOFFSETFROM:-0400
TZOFFSETTO:-0500
TZNAME:EST
END:STANDARD
END:VTIMEZONE
END:VCALENDAR