BEGIN:VCALENDAR
VERSION:2.0
PRODID:-//wp-events-plugin.com//7.2.3.1//EN
TZID:America/New_York
X-WR-TIMEZONE:America/New_York
BEGIN:VEVENT
UID:706@findingconnecticut.com
DTSTART;TZID=America/New_York:20230421T193000
DTEND;TZID=America/New_York:20230421T223000
DTSTAMP:20230313T184844Z
URL:https://findingconnecticut.com/events/electric-light-orchestra-experie
 nce-featuring-evil-woman/
SUMMARY:Electric Light Orchestra Experience featuring Evil Woman
DESCRIPTION:EVIL WOMAN- The American ELO\nApril 21\, 2023 •  7:30 PM\n\n
 Click here for more information \n\nMohegan Sun \n1 Mohegan Sun Blvd.\nU
 ncasville\, CT 06382\n\nTo add an event please email us\, we monitor for s
 pam. We need a photo\, description and website for each submission - We do
  not accept submissions that are within the next 3 days. submissions@findi
 ngconnecticut.com\n\n[caption id="attachment_16083" align="alignnone" widt
 h="300"] shop.findingconnecticut.com[/caption]
ATTACH;FMTTYPE=image/jpeg:https://findingconnecticut.com/wp-content/upload
 s/2023/03/unnamed-56.png
CATEGORIES:Uncasville
LOCATION:Mohegan Sun\, 1 Mohegan Sun Blvd\, \, Uncasville\, \, Connecticut\
 , \, 06382\, New England \, United States
X-APPLE-STRUCTURED-LOCATION;VALUE=URI;X-ADDRESS=1 Mohegan Sun Blvd\, \, Unc
 asville\, \, Connecticut\, \, 06382\, New England \, United States;X-APPLE
 -RADIUS=100;X-TITLE=Mohegan Sun:geo:0,0
END:VEVENT
BEGIN:VTIMEZONE
TZID:America/New_York
X-LIC-LOCATION:America/New_York
BEGIN:DAYLIGHT
DTSTART:20230312T030000
TZOFFSETFROM:-0500
TZOFFSETTO:-0400
TZNAME:EDT
END:DAYLIGHT
END:VTIMEZONE
END:VCALENDAR