BEGIN:VCALENDAR
VERSION:2.0
PRODID:-//wp-events-plugin.com//7.2.3.1//EN
TZID:America/New_York
X-WR-TIMEZONE:America/New_York
BEGIN:VEVENT
UID:13471@findingconnecticut.com
DTSTART;TZID=America/New_York:20260704T083000
DTEND;TZID=America/New_York:20260704T120000
DTSTAMP:20251225T194608Z
URL:https://findingconnecticut.com/events/east-haven-farmers-market-2026-0
 6-06-2026-06-13-2026-06-20-2026-06-27-2026-07-04/
SUMMARY:East Haven Farmers' Market
DESCRIPTION:East Haven Farmers' Market\n8:30 am - 12:00 PM\n\n East Haven 
 Town Green\n\nThe market offers a variety of products\, from locally-grown
  fruits and vegetables and products from specialty food vendors including 
 specialty items for pets. There are many local crafters and civic- groups 
 that have stands at the market. There are also activities that are held th
 roughout the market season such a herb planting\, free yoga and music. The
  market’s Facebook page will have the dates and activities posted.\n\nSh
 are your  East Haven Farmers' Market experience with us by using #finding
 connecticut on Instagram\n\nClick here to return to our home page\n\n[cap
 tion id="attachment_16083" align="alignnone" width="300"] shop.findingconn
 ecticut.com[/caption]
ATTACH;FMTTYPE=image/jpeg:https://findingconnecticut.com/wp-content/upload
 s/2023/02/282318451_381037417381490_6388562931485424261_n.jpg
CATEGORIES:East Haven
LOCATION:East Haven Farmer's Market\, East Haven Town Green \, East Haven\,
  Connecticut \, 06512\, United States
X-APPLE-STRUCTURED-LOCATION;VALUE=URI;X-ADDRESS=East Haven Town Green \, Ea
 st Haven\, Connecticut \, 06512\, United States;X-APPLE-RADIUS=100;X-TITLE
 =East Haven Farmer's Market:geo:0,0
END:VEVENT
BEGIN:VTIMEZONE
TZID:America/New_York
X-LIC-LOCATION:America/New_York
BEGIN:DAYLIGHT
DTSTART:20260308T030000
TZOFFSETFROM:-0500
TZOFFSETTO:-0400
TZNAME:EDT
END:DAYLIGHT
END:VTIMEZONE
END:VCALENDAR