BEGIN:VCALENDAR
VERSION:2.0
PRODID:-//wp-events-plugin.com//7.2.3.1//EN
TZID:America/New_York
X-WR-TIMEZONE:America/New_York
BEGIN:VEVENT
UID:364@findingconnecticut.com
DTSTART;TZID=America/New_York:20230311T100000
DTEND;TZID=America/New_York:20230311T130000
DTSTAMP:20230218T202218Z
URL:https://findingconnecticut.com/events/durham-farmers-market-3/
SUMMARY:Durham Farmers Market
DESCRIPTION:Durham Farmers Market\n  March 11\, 2023 • 10 am - 1 pm\n•
 \nA popular Market for the winter\, Durham provides a wide variety of prod
 ucts to help create a one-stop shop for patrons.  You can find kombucha\,
  meats\, artisan baked goods and so much more.  Come check out why we hav
 e people shop with us weekly.\n•\nUnited Churches of Durham\n228 Main St
 reet\nDurham CT 06422\n•\nTo add an event please email us\, we monitor f
 or spam. We need a photo\, description and website for each submission - W
 e do not accept submissions that are within the next 3 days. submissions@f
 indingconnecticut.com\n\n\n[caption id="attachment_16083" align="alignnone
 " width="300"] shop.findingconnecticut.com[/caption]\n\n&nbsp\;\n\n&nbsp\;
ATTACH;FMTTYPE=image/jpeg:https://findingconnecticut.com/wp-content/upload
 s/2023/02/newcanaanfarmersmarket_logo_resized_2.jpg
CATEGORIES:Durham
LOCATION:Durham Farmers Market\, 228 Main Street\, Durham \, Connecticut\, 
 06422\, New England \, United States
X-APPLE-STRUCTURED-LOCATION;VALUE=URI;X-ADDRESS=228 Main Street\, Durham \,
  Connecticut\, 06422\, New England \, United States;X-APPLE-RADIUS=100;X-T
 ITLE=Durham Farmers Market:geo:0,0
END:VEVENT
BEGIN:VTIMEZONE
TZID:America/New_York
X-LIC-LOCATION:America/New_York
BEGIN:STANDARD
DTSTART:20221106T010000
TZOFFSETFROM:-0400
TZOFFSETTO:-0500
TZNAME:EST
END:STANDARD
END:VTIMEZONE
END:VCALENDAR