BEGIN:VCALENDAR
VERSION:2.0
PRODID:-//wp-events-plugin.com//7.2.3.1//EN
TZID:America/New_York
X-WR-TIMEZONE:America/New_York
BEGIN:VEVENT
UID:6173@findingconnecticut.com
DTSTART;TZID=America/New_York:20240531T200000
DTEND;TZID=America/New_York:20240531T220000
DTSTAMP:20240525T212241Z
URL:https://findingconnecticut.com/events/durham-county-poets/
SUMMARY:Durham County Poets
DESCRIPTION:Durham County Poets\nMay 31\, 2024\n\nClick here for more infor
 mation \nThe Katherine Hepburn Cultural Arts Center\n300 Main Street\nOld
  Saybrook\, CT 06475\nTo add an event please email us\, we monitor for spa
 m. We need a photo\, description and website for each submission - We do n
 ot accept submissions that are within the next 3 days. submissions@finding
 connecticut.com\n\n\n[caption id="attachment_16083" align="alignnone" widt
 h="300"] shop.findingconnecticut.com[/caption]\n\n&nbsp\;\n\n&nbsp\;
ATTACH;FMTTYPE=image/jpeg:https://findingconnecticut.com/wp-content/upload
 s/2024/04/unnamed-116.jpg
CATEGORIES:Old Saybrook
LOCATION:The Katherine Hepburn Culture Arts Center\, 300 Main Street\, \, O
 ld Saybrook\, \, Connecticut \, 06475\, New England \, United States
X-APPLE-STRUCTURED-LOCATION;VALUE=URI;X-ADDRESS=300 Main Street\, \, Old Sa
 ybrook\, \, Connecticut \, 06475\, New England \, United States;X-APPLE-RA
 DIUS=100;X-TITLE=The Katherine Hepburn Culture Arts Center:geo:0,0
END:VEVENT
BEGIN:VTIMEZONE
TZID:America/New_York
X-LIC-LOCATION:America/New_York
BEGIN:DAYLIGHT
DTSTART:20240310T030000
TZOFFSETFROM:-0500
TZOFFSETTO:-0400
TZNAME:EDT
END:DAYLIGHT
END:VTIMEZONE
END:VCALENDAR