BEGIN:VCALENDAR
VERSION:2.0
PRODID:-//wp-events-plugin.com//7.2.3.1//EN
TZID:America/New_York
X-WR-TIMEZONE:America/New_York
BEGIN:VEVENT
UID:2232@findingconnecticut.com
DTSTART;TZID=America/New_York;VALUE=DATE:20231021
DTEND;TZID=America/New_York;VALUE=DATE:20231022
DTSTAMP:20230815T211555Z
URL:https://findingconnecticut.com/events/downtown-halloween-happenings/
SUMMARY:Downtown Halloween Happenings
DESCRIPTION:Downtown Halloween Happenings\nOctober 21\, 2023\nFor more info
 rmation click here\n\nTo add an event please email us\, we monitor for spa
 m. We need a photo\, description and website for each submission - We do n
 ot accept submissions that are within the next 3 days. submissions at find
 ingconnecticut.com  \n\n[caption id="attachment_16083" align="alignnone"
  width="300"] shop.findingconnecticut.com[/caption]\n\n&nbsp\;
ATTACH;FMTTYPE=image/jpeg:https://findingconnecticut.com/wp-content/upload
 s/2023/08/downtown-scarecrows.png
CATEGORIES:Manchester
END:VEVENT
BEGIN:VTIMEZONE
TZID:America/New_York
X-LIC-LOCATION:America/New_York
BEGIN:DAYLIGHT
DTSTART:20230312T030000
TZOFFSETFROM:-0500
TZOFFSETTO:-0400
TZNAME:EDT
END:DAYLIGHT
END:VTIMEZONE
END:VCALENDAR