BEGIN:VCALENDAR
VERSION:2.0
PRODID:-//wp-events-plugin.com//7.2.3.1//EN
TZID:America/New_York
X-WR-TIMEZONE:America/New_York
BEGIN:VEVENT
UID:1821@findingconnecticut.com
DTSTART;TZID=America/New_York:20230726T190000
DTEND;TZID=America/New_York:20230726T210000
DTSTAMP:20230704T022625Z
URL:https://findingconnecticut.com/events/divinity-roxx/
SUMMARY:Divinity Roxx
DESCRIPTION:\n  Divinity Roxx  July 26\, 2023  •  7 PM   Click here 
 for more information    Levitt Pavilion    40 Jessup Road   Westport
 \, CT 06880    To add an event please email us\, we monitor for spam. We
  need a photo\, description and website for each submission - We do not ac
 cept submissions that are within the next 3 days. submissions at findingco
 nnecticut.com \n[caption id="attachment_16083" align="alignnone" width="3
 00"] shop.findingconnecticut.com[/caption]\n\n
ATTACH;FMTTYPE=image/jpeg:https://findingconnecticut.com/wp-content/upload
 s/2023/07/divi-pastel-crop-e1686707987457.jpg
CATEGORIES:Westport
LOCATION:Levitt Pavilion\, 40 Jessup Road\, Westport \, Connecticut \, 0688
 0\, United States
X-APPLE-STRUCTURED-LOCATION;VALUE=URI;X-ADDRESS=40 Jessup Road\, Westport \
 , Connecticut \, 06880\, United States;X-APPLE-RADIUS=100;X-TITLE=Levitt P
 avilion:geo:0,0
END:VEVENT
BEGIN:VTIMEZONE
TZID:America/New_York
X-LIC-LOCATION:America/New_York
BEGIN:DAYLIGHT
DTSTART:20230312T030000
TZOFFSETFROM:-0500
TZOFFSETTO:-0400
TZNAME:EDT
END:DAYLIGHT
END:VTIMEZONE
END:VCALENDAR