BEGIN:VCALENDAR
VERSION:2.0
PRODID:-//wp-events-plugin.com//7.2.3.1//EN
TZID:America/New_York
X-WR-TIMEZONE:America/New_York
BEGIN:VEVENT
UID:1988@findingconnecticut.com
DTSTART;TZID=America/New_York:20230919T180000
DTEND;TZID=America/New_York:20230919T203000
DTSTAMP:20230720T145838Z
URL:https://findingconnecticut.com/events/disney-junior-live-on-tour-costu
 me-palooza/
SUMMARY:Disney Junior Live On Tour: Costume Palooza
DESCRIPTION:Disney Junior Live On Tour: Costume Palooza\nSeptember 19 2023 
 at 6pm\n Click here for more information \n\n The Palace Theatre\n61 At
 lantic Street\nStamford\, Connecticut 06901\n\nTo add an event please emai
 l us\, we monitor for spam. We need a photo\, description and website for 
 each submission - We do not accept submissions that are within the next 3 
 days. submissions at findingconnecticut.com  \n\n[caption id="attachment
 _16083" align="alignnone" width="300"] shop.findingconnecticut.com[/captio
 n]
ATTACH;FMTTYPE=image/jpeg:https://findingconnecticut.com/wp-content/upload
 s/2023/07/DisneyJr-2023-Feature.jpg
CATEGORIES:Stamford
LOCATION:The Palace\, 61 Atlantic Street\, Stamford \, Connecticut \, 06901
 \, New England\, United States
X-APPLE-STRUCTURED-LOCATION;VALUE=URI;X-ADDRESS=61 Atlantic Street\, Stamfo
 rd \, Connecticut \, 06901\, New England\, United States;X-APPLE-RADIUS=10
 0;X-TITLE=The Palace:geo:0,0
END:VEVENT
BEGIN:VTIMEZONE
TZID:America/New_York
X-LIC-LOCATION:America/New_York
BEGIN:DAYLIGHT
DTSTART:20230312T030000
TZOFFSETFROM:-0500
TZOFFSETTO:-0400
TZNAME:EDT
END:DAYLIGHT
END:VTIMEZONE
END:VCALENDAR