BEGIN:VCALENDAR
VERSION:2.0
PRODID:-//wp-events-plugin.com//7.2.3.1//EN
TZID:America/New_York
X-WR-TIMEZONE:America/New_York
BEGIN:VEVENT
UID:2498@findingconnecticut.com
DTSTART;TZID=America/New_York:20230914T180000
DTEND;TZID=America/New_York:20230914T190000
DTSTAMP:20230825T210712Z
URL:https://findingconnecticut.com/events/discover-the-original-carousel-c
 arvers-with-bob-yorburg/
SUMMARY:Discover the Original Carousel Carvers with Bob Yorburg
DESCRIPTION:Discover the Original Carousel Carvers with Bob Yorburg\n Sept
 ember 14\, 2023 •  6 PM\n Click here for more information\n\n The Car
 ousel Museum\n95 Riverside Ave\nBristol\, Connecticut 06010\n\nTo add an e
 vent please email us\, we monitor for spam. We need a photo\, description 
 and website for each submission - We do not accept submissions that are wi
 thin the next 3 days. submissions at findingconnecticut.com\n\n[caption id
 ="attachment_16083" align="alignnone" width="300"] shop.findingconnecticut
 .com[/caption]
ATTACH;FMTTYPE=image/jpeg:https://findingconnecticut.com/wp-content/upload
 s/2023/08/unnamed-19.png
CATEGORIES:Bristol
LOCATION:The Carousel Museum\, 95 Riverside Ave\, Bristol\, Connecticut\, 0
 6010\, New England\, United States
X-APPLE-STRUCTURED-LOCATION;VALUE=URI;X-ADDRESS=95 Riverside Ave\, Bristol\
 , Connecticut\, 06010\, New England\, United States;X-APPLE-RADIUS=100;X-T
 ITLE=The Carousel Museum:geo:0,0
END:VEVENT
BEGIN:VTIMEZONE
TZID:America/New_York
X-LIC-LOCATION:America/New_York
BEGIN:DAYLIGHT
DTSTART:20230312T030000
TZOFFSETFROM:-0500
TZOFFSETTO:-0400
TZNAME:EDT
END:DAYLIGHT
END:VTIMEZONE
END:VCALENDAR