BEGIN:VCALENDAR
VERSION:2.0
PRODID:-//wp-events-plugin.com//7.2.3.1//EN
TZID:America/New_York
X-WR-TIMEZONE:America/New_York
BEGIN:VEVENT
UID:6156@findingconnecticut.com
DTSTART;TZID=America/New_York:20240623T150000
DTEND;TZID=America/New_York:20240623T170000
DTSTAMP:20240525T202854Z
URL:https://findingconnecticut.com/events/designing-the-black-american-cul
 tural-costume/
SUMMARY:Designing the Black American Cultural Costume
DESCRIPTION:Designing the Black American Cultural Costume\nJune 23\, 2024\n
  Click here for more information \n\nTo add an event please email us\, w
 e monitor for spam. We need a photo\, description and website for each sub
 mission - We do not accept submissions that are within the next 3 days. su
 bmissions at findingconnecticut.com  \n\n[caption id="attachment_16083" 
 align="alignnone" width="300"] shop.findingconnecticut.com[/caption]
ATTACH;FMTTYPE=image/jpeg:https://findingconnecticut.com/wp-content/upload
 s/2024/05/CMcKnight.jpg
CATEGORIES:Ridgefield
LOCATION:Keeler Tavern Museum & History Center\, 152 Main St \, Ridgefield\
 , Connecticut\, 06877\, New England\, United States
X-APPLE-STRUCTURED-LOCATION;VALUE=URI;X-ADDRESS=152 Main St \, Ridgefield\,
  Connecticut\, 06877\, New England\, United States;X-APPLE-RADIUS=100;X-TI
 TLE=Keeler Tavern Museum & History Center:geo:0,0
END:VEVENT
BEGIN:VTIMEZONE
TZID:America/New_York
X-LIC-LOCATION:America/New_York
BEGIN:DAYLIGHT
DTSTART:20240310T030000
TZOFFSETFROM:-0500
TZOFFSETTO:-0400
TZNAME:EDT
END:DAYLIGHT
END:VTIMEZONE
END:VCALENDAR