BEGIN:VCALENDAR
VERSION:2.0
PRODID:-//wp-events-plugin.com//7.2.3.1//EN
TZID:America/New_York
X-WR-TIMEZONE:America/New_York
BEGIN:VEVENT
UID:2009@findingconnecticut.com
DTSTART;TZID=America/New_York:20230803T080000
DTEND;TZID=America/New_York:20230803T103000
DTSTAMP:20230721T143149Z
URL:https://findingconnecticut.com/events/dean-ford-the-beautiful-ones/
SUMMARY:Dean Ford & the Beautiful Ones
DESCRIPTION:Dean Ford &amp\; the Beautiful Ones\n August 3\, 2023\n Click
  here for more information\n\n The Katherine Hepburn Cultural Arts Center
 \n300 Main Street\nOld Saybrook\, CT 06475\n\nTo add an event please email
  us\, we monitor for spam. We need a photo\, description and website for e
 ach submission - We do not accept submissions that are within the next 3 d
 ays. submissions at findingconnecticut.com  \n\n[caption id="attachment_
 16083" align="alignnone" width="300"] shop.findingconnecticut.com[/caption
 ]
ATTACH;FMTTYPE=image/jpeg:https://findingconnecticut.com/wp-content/upload
 s/2023/07/image002-11.jpg
CATEGORIES:Old Saybrook
LOCATION:The Katherine Hepburn Culture Arts Center\, 300 Main Street\, \, O
 ld Saybrook\, \, Connecticut \, 06475\, New England \, United States
X-APPLE-STRUCTURED-LOCATION;VALUE=URI;X-ADDRESS=300 Main Street\, \, Old Sa
 ybrook\, \, Connecticut \, 06475\, New England \, United States;X-APPLE-RA
 DIUS=100;X-TITLE=The Katherine Hepburn Culture Arts Center:geo:0,0
END:VEVENT
BEGIN:VTIMEZONE
TZID:America/New_York
X-LIC-LOCATION:America/New_York
BEGIN:DAYLIGHT
DTSTART:20230312T030000
TZOFFSETFROM:-0500
TZOFFSETTO:-0400
TZNAME:EDT
END:DAYLIGHT
END:VTIMEZONE
END:VCALENDAR