BEGIN:VCALENDAR
VERSION:2.0
PRODID:-//wp-events-plugin.com//7.2.3.1//EN
TZID:America/New_York
X-WR-TIMEZONE:America/New_York
BEGIN:VEVENT
UID:1481@findingconnecticut.com
DTSTART;TZID=America/New_York:20230716T180000
DTEND;TZID=America/New_York:20230716T210000
DTSTAMP:20230609T014030Z
URL:https://findingconnecticut.com/events/dawes/
SUMMARY:Dawes
DESCRIPTION:Dawes\nJuly 16\, 2023  • 6 pm\n Click here for more informa
 tion \n\n Levitt Pavilion \n40 Jessup Road\nWestport\, CT 06880\n\nTo a
 dd an event please email us\, we monitor for spam. We need a photo\, descr
 iption and website for each submission - We do not accept submissions that
  are within the next 3 days. submissions at findingconnecticut.com \n\n[ca
 ption id="attachment_16083" align="alignnone" width="300"] shop.findingcon
 necticut.com[/caption]\n\n 
ATTACH;FMTTYPE=image/jpeg:https://findingconnecticut.com/wp-content/upload
 s/2023/06/Dawes-Press-2022.jpg
CATEGORIES:Westport
LOCATION:Levitt Pavilion\, 40 Jessup Road\, Westport \, Connecticut \, 0688
 0\, United States
X-APPLE-STRUCTURED-LOCATION;VALUE=URI;X-ADDRESS=40 Jessup Road\, Westport \
 , Connecticut \, 06880\, United States;X-APPLE-RADIUS=100;X-TITLE=Levitt P
 avilion:geo:0,0
END:VEVENT
BEGIN:VTIMEZONE
TZID:America/New_York
X-LIC-LOCATION:America/New_York
BEGIN:DAYLIGHT
DTSTART:20230312T030000
TZOFFSETFROM:-0500
TZOFFSETTO:-0400
TZNAME:EDT
END:DAYLIGHT
END:VTIMEZONE
END:VCALENDAR