BEGIN:VCALENDAR
VERSION:2.0
PRODID:-//wp-events-plugin.com//7.2.3.1//EN
TZID:America/New_York
X-WR-TIMEZONE:America/New_York
BEGIN:VEVENT
UID:14356@findingconnecticut.com
DTSTART;TZID=America/New_York:20260328T193000
DTEND;TZID=America/New_York:20260328T220000
DTSTAMP:20260227T004646Z
URL:https://findingconnecticut.com/events/david-j-versofest-the-westport-l
 ibrary-westport-ct-march-28-2026-730-pm/
SUMMARY:David J
DESCRIPTION:David J\nMarch 28\, 2026 • 730 pm\nClick here for more inform
 ation \n\nWestport Library\n20 Jesup Road\nWestport\, CT 06880\nAs of Mar
 ch 2025\, all event listings require payment.\nTo submit your event\, plea
 se send the event details along with a photo and/or logo to submissions at
  findingconnecticut dot com. You can complete your payment here\nYour eve
 nt will be published within 24 hours after both payment and all required i
 nformation have been received.\nWe offer discounts for multiple event list
 ings.\nThank you for supporting Finding Connecticut—your participation 
 helps us grow our website and brand.\n\n\n[caption id="attachment_16083" a
 lign="alignnone" width="300"] shop.findingconnecticut.com[/caption]
ATTACH;FMTTYPE=image/jpeg:https://findingconnecticut.com/wp-content/upload
 s/2026/01/David-J.-2160x1320-1-HrC4dB.png
CATEGORIES:Westport
LOCATION:Westport Library\, 20 Jessup Road \, Westport\, Connecticut\, 0688
 0\, New England\, United States
X-APPLE-STRUCTURED-LOCATION;VALUE=URI;X-ADDRESS=20 Jessup Road \, Westport\
 , Connecticut\, 06880\, New England\, United States;X-APPLE-RADIUS=100;X-T
 ITLE=Westport Library:geo:0,0
END:VEVENT
BEGIN:VTIMEZONE
TZID:America/New_York
X-LIC-LOCATION:America/New_York
BEGIN:DAYLIGHT
DTSTART:20260308T030000
TZOFFSETFROM:-0500
TZOFFSETTO:-0400
TZNAME:EDT
END:DAYLIGHT
END:VTIMEZONE
END:VCALENDAR