BEGIN:VCALENDAR
VERSION:2.0
PRODID:-//wp-events-plugin.com//7.2.3.1//EN
TZID:America/New_York
X-WR-TIMEZONE:America/New_York
BEGIN:VEVENT
UID:6124@findingconnecticut.com
DTSTART;TZID=America/New_York:20240816T190000
DTEND;TZID=America/New_York:20240816T223000
DTSTAMP:20240511T143739Z
URL:https://findingconnecticut.com/events/dark-star-orchestra/
SUMMARY:Dark Star Orchestra
DESCRIPTION:Dark Star Orchestra\nAugust 16\, 2024\nClick here for more info
 rmation \n\n Powder Ridge Mountain Park Resort \n99 Powder Hill Rd\nMid
 dlefield\, CT 06455\n\nTo add an event please email us\, we monitor for sp
 am. We need a photo\, description and website for each submission - We do 
 not accept submissions that are within the next 3 days. submissions at fin
 dingconnecticut.com  \n\n[caption id="attachment_16083" align="alignnone
 " width="300"] shop.findingconnecticut.com[/caption]
ATTACH;FMTTYPE=image/jpeg:https://findingconnecticut.com/wp-content/upload
 s/2024/05/dark-star-orchestra-powder-ridge-connecticut.jpg
CATEGORIES:Middlefield
LOCATION:Powder Ridge Mountain Park Resort\, 99 Powder Hill Road \, Middlef
 ield \, Connecticut \, 06455\, New England \, United States
X-APPLE-STRUCTURED-LOCATION;VALUE=URI;X-ADDRESS=99 Powder Hill Road \, Midd
 lefield \, Connecticut \, 06455\, New England \, United States;X-APPLE-RAD
 IUS=100;X-TITLE=Powder Ridge Mountain Park Resort:geo:0,0
END:VEVENT
BEGIN:VTIMEZONE
TZID:America/New_York
X-LIC-LOCATION:America/New_York
BEGIN:DAYLIGHT
DTSTART:20240310T030000
TZOFFSETFROM:-0500
TZOFFSETTO:-0400
TZNAME:EDT
END:DAYLIGHT
END:VTIMEZONE
END:VCALENDAR