BEGIN:VCALENDAR
VERSION:2.0
PRODID:-//wp-events-plugin.com//7.2.3.1//EN
TZID:America/New_York
X-WR-TIMEZONE:America/New_York
BEGIN:VEVENT
UID:1817@findingconnecticut.com
DTSTART;TZID=America/New_York:20230823T190000
DTEND;TZID=America/New_York:20230823T210000
DTSTAMP:20230704T021616Z
URL:https://findingconnecticut.com/events/danny-weinkauf-his-red-pants-ban
 d/
SUMMARY:Danny Weinkauf & His Red Pants Band
DESCRIPTION:\nDanny Weinkauf &amp\; His Red Pants Band    August 23\, 202
 3 • 7 PM   Click here for more information    Levitt Pavilion   40
  Jessup Road  Westport\, CT 06880   To add an event please email us\, we
  monitor for spam. We need a photo\, description and website for each subm
 ission - We do not accept submissions that are within the next 3 days. sub
 missions at findingconnecticut.com \n[caption id="attachment_16083" align
 ="alignnone" width="300"] shop.findingconnecticut.com[/caption]\n\n
ATTACH;FMTTYPE=image/jpeg:https://findingconnecticut.com/wp-content/upload
 s/2023/07/20180703-132213-85049A_LYN_7_5_Neighbors-e1686716049961.jpg
CATEGORIES:Westport
LOCATION:Levitt Pavilion\, 40 Jessup Road\, Westport \, Connecticut \, 0688
 0\, United States
X-APPLE-STRUCTURED-LOCATION;VALUE=URI;X-ADDRESS=40 Jessup Road\, Westport \
 , Connecticut \, 06880\, United States;X-APPLE-RADIUS=100;X-TITLE=Levitt P
 avilion:geo:0,0
END:VEVENT
BEGIN:VTIMEZONE
TZID:America/New_York
X-LIC-LOCATION:America/New_York
BEGIN:DAYLIGHT
DTSTART:20230312T030000
TZOFFSETFROM:-0500
TZOFFSETTO:-0400
TZNAME:EDT
END:DAYLIGHT
END:VTIMEZONE
END:VCALENDAR