BEGIN:VCALENDAR
VERSION:2.0
PRODID:-//wp-events-plugin.com//7.2.3.1//EN
TZID:America/New_York
X-WR-TIMEZONE:America/New_York
BEGIN:VEVENT
UID:526@findingconnecticut.com
DTSTART;TZID=America/New_York:20230805T190000
DTEND;TZID=America/New_York:20230805T223000
DTSTAMP:20230301T025414Z
URL:https://findingconnecticut.com/events/dan-shay/
SUMMARY:Dan + Shay
DESCRIPTION:Dan + Shay\nAugust 5\, 2023 • 7 PM\n\nFor more information cl
 ick here\n\nMohegan Sun \n1 Mohegan Sun Blvd.\nUncasville\, CT 06382\n\nT
 o add an event please email us\, we monitor for spam. We need a photo\, de
 scription and website for each submission - We do not accept submissions t
 hat are within the next 3 days. submissions@findingconnecticut.com\n\n[cap
 tion id="attachment_16083" align="alignnone" width="300"] shop.findingconn
 ecticut.com[/caption]
ATTACH;FMTTYPE=image/jpeg:https://findingconnecticut.com/wp-content/upload
 s/2023/02/unnamed-252.jpg
CATEGORIES:Uncasville
LOCATION:Mohegan Sun\, 1 Mohegan Sun Blvd\, \, Uncasville\, \, Connecticut\
 , \, 06382\, New England \, United States
X-APPLE-STRUCTURED-LOCATION;VALUE=URI;X-ADDRESS=1 Mohegan Sun Blvd\, \, Unc
 asville\, \, Connecticut\, \, 06382\, New England \, United States;X-APPLE
 -RADIUS=100;X-TITLE=Mohegan Sun:geo:0,0
END:VEVENT
BEGIN:VTIMEZONE
TZID:America/New_York
X-LIC-LOCATION:America/New_York
BEGIN:DAYLIGHT
DTSTART:20230312T030000
TZOFFSETFROM:-0500
TZOFFSETTO:-0400
TZNAME:EDT
END:DAYLIGHT
END:VTIMEZONE
END:VCALENDAR