BEGIN:VCALENDAR
VERSION:2.0
PRODID:-//wp-events-plugin.com//7.2.3.1//EN
TZID:America/New_York
X-WR-TIMEZONE:America/New_York
BEGIN:VEVENT
UID:13216@findingconnecticut.com
DTSTART;TZID=America/New_York:20251101T200000
DTEND;TZID=America/New_York:20251101T223000
DTSTAMP:20251019T133953Z
URL:https://findingconnecticut.com/events/dan-geurin-eric-tartaglione/
SUMMARY:Dan Geurin & Eric Tartaglione
DESCRIPTION:Dan Geurin &amp\; Eric Tartaglione\nNovember 1\, 2025\n\n Clic
 k here for more information \n\n  Playhouse on Park\n244 Park Road\nWest
  Hartford\, CT 06119\n\nClick here for more information about submitting e
 vents. \n\n[caption id="attachment_16083" align="alignnone" width="300"] 
 shop.findingconnecticut.com[/caption]\n\n 
ATTACH;FMTTYPE=image/jpeg:https://findingconnecticut.com/wp-content/upload
 s/2024/04/IMG_4500.jpeg
CATEGORIES:West Hartford
LOCATION:Playhouse on Park\, 244 Park Road\, West Hartford \, Connecticut \
 , 06119\, New England \, United States
X-APPLE-STRUCTURED-LOCATION;VALUE=URI;X-ADDRESS=244 Park Road\, West Hartfo
 rd \, Connecticut \, 06119\, New England \, United States;X-APPLE-RADIUS=1
 00;X-TITLE=Playhouse on Park:geo:0,0
END:VEVENT
BEGIN:VTIMEZONE
TZID:America/New_York
X-LIC-LOCATION:America/New_York
BEGIN:DAYLIGHT
DTSTART:20250309T030000
TZOFFSETFROM:-0500
TZOFFSETTO:-0400
TZNAME:EDT
END:DAYLIGHT
END:VTIMEZONE
END:VCALENDAR