BEGIN:VCALENDAR
VERSION:2.0
PRODID:-//wp-events-plugin.com//7.2.3.1//EN
TZID:America/New_York
X-WR-TIMEZONE:America/New_York
BEGIN:VEVENT
UID:86@findingconnecticut.com
DTSTART;TZID=America/New_York:20230604T130000
DTEND;TZID=America/New_York:20230604T150000
DTSTAMP:20230130T223544Z
URL:https://findingconnecticut.com/events/dallas-wings-vs-connecticut-sun/
SUMMARY:Dallas Wings vs Connecticut Sun
DESCRIPTION:Dallas Wings vs Connecticut Sun\nJune 4\, 2023 • 1 PM\nMohega
 n Sun \n1 Mohegan Sun Blvd.\nUncasville\, CT 06382\nTo add an event pleas
 e email us\, we monitor for spam. We need a photo\, description and websit
 e for each submission - We do not accept submissions that are within the n
 ext 3 days. submissions@findingconnecticut.com\n\n\n[caption id="attachmen
 t_16083" align="alignnone" width="300"] shop.findingconnecticut.com[/capti
 on]
ATTACH;FMTTYPE=image/jpeg:https://findingconnecticut.com/wp-content/upload
 s/2022/04/Unknown.png
CATEGORIES:Uncasville
LOCATION:Mohegan Sun\, 1 Mohegan Sun Blvd\, \, Uncasville\, \, Connecticut\
 , \, 06382\, New England \, United States
X-APPLE-STRUCTURED-LOCATION;VALUE=URI;X-ADDRESS=1 Mohegan Sun Blvd\, \, Unc
 asville\, \, Connecticut\, \, 06382\, New England \, United States;X-APPLE
 -RADIUS=100;X-TITLE=Mohegan Sun:geo:0,0
END:VEVENT
BEGIN:VTIMEZONE
TZID:America/New_York
X-LIC-LOCATION:America/New_York
BEGIN:DAYLIGHT
DTSTART:20230312T030000
TZOFFSETFROM:-0500
TZOFFSETTO:-0400
TZNAME:EDT
END:DAYLIGHT
END:VTIMEZONE
END:VCALENDAR