BEGIN:VCALENDAR
VERSION:2.0
PRODID:-//wp-events-plugin.com//7.2.3.1//EN
TZID:America/New_York
X-WR-TIMEZONE:America/New_York
BEGIN:VEVENT
UID:1302@findingconnecticut.com
DTSTART;TZID=America/New_York:20230608T200000
DTEND;TZID=America/New_York:20230608T223000
DTSTAMP:20230527T164410Z
URL:https://findingconnecticut.com/events/curtis-salgado/
SUMMARY:Curtis Salgado
DESCRIPTION:Curtis Salgado\nJune 8\, 2023  •  8 PM\nClick here for more
  information\n  The Katherine Hepburn Cultural Arts Center\n  300 Main S
 treet\nOld Saybrook\, CT 06475\n  To add an event please email us\, we mo
 nitor for spam. We need a photo\, description and website for each submiss
 ion - We do not accept submissions that are within the next 3 days. submis
 sions at findingconnecticut.com\n\n\n[caption id="attachment_16083" align=
 "alignnone" width="300"] shop.findingconnecticut.com[/caption]
ATTACH;FMTTYPE=image/jpeg:https://findingconnecticut.com/wp-content/upload
 s/2023/05/image002-5-scaled.jpg
CATEGORIES:Old Saybrook
LOCATION:The Katherine Hepburn Culture Arts Center\, 300 Main Street\, \, O
 ld Saybrook\, \, Connecticut \, 06475\, New England \, United States
X-APPLE-STRUCTURED-LOCATION;VALUE=URI;X-ADDRESS=300 Main Street\, \, Old Sa
 ybrook\, \, Connecticut \, 06475\, New England \, United States;X-APPLE-RA
 DIUS=100;X-TITLE=The Katherine Hepburn Culture Arts Center:geo:0,0
END:VEVENT
BEGIN:VTIMEZONE
TZID:America/New_York
X-LIC-LOCATION:America/New_York
BEGIN:DAYLIGHT
DTSTART:20230312T030000
TZOFFSETFROM:-0500
TZOFFSETTO:-0400
TZNAME:EDT
END:DAYLIGHT
END:VTIMEZONE
END:VCALENDAR