BEGIN:VCALENDAR
VERSION:2.0
PRODID:-//wp-events-plugin.com//7.2.3.1//EN
TZID:America/New_York
X-WR-TIMEZONE:America/New_York
BEGIN:VEVENT
UID:6149@findingconnecticut.com
DTSTART;TZID=America/New_York:20240823T160000
DTEND;TZID=America/New_York:20240823T190000
DTSTAMP:20240522T134701Z
URL:https://findingconnecticut.com/events/cromwell-farmers-market-12/
SUMMARY:Cromwell Farmers' Market
DESCRIPTION:\n\n\nCromwell Farmers' Market\n August 23\,  2024  • 4 pm
  - 7 pm\n\n\nThe Town of Cromwell Farmers Market is held on Friday evening
 s from 4 to 7 p.m. at Riverport Park at Frisbee Landing\, 1 River Road\, C
 romwell\, beginning on Friday\, June 7 and running through Friday\, Septem
 ber 6. The beautiful Riverport Park is conveniently located on the Connect
 icut River at the junction of Route 9.\n\nThe Town of Cromwell Farmers Mar
 ket aims to support the local economy\, enrich the quality of life in our 
 Town\, and promote the public health and environmental benefits of eating 
 local. With average crowds of approximately 850 + people weekly the Town o
 f Cromwell Farmers Market is a community favorite! In addition to farm-fre
 sh vegetables\, locally sourced products\, and artisans\, there are food t
 rucks\, vendors and live music.\n\n1 River Rd\, Cromwell\, CT 06416\n\n\n\
 n\n\nClick here for the Cromwell Farmers Market Schedule\nClick here for t
 he latest news in Cromwell\nClick here for the upcoming events in Cromwell
 \nClick here for the latest news in Middlesex County\nClick here for the u
 pcoming events in Middlesex County\n\n\n\n\n\n Share your Cromwell Farmer
 s'  Market  experiences with us by using #findingconnecticut on Instagr
 am\n\n Click here to return to our home page.\n\nTo add an event please e
 mail us\, we monitor for spam. We need a photo\, description and website f
 or each submission - We do not accept submissions that are within the next
  3 days. submissions@ findingconnecticut.com\n\n[caption id="attachment_16
 083" align="alignnone" width="300"] shop.findingconnecticut.com[/caption]\
 n\n\n\n\n
ATTACH;FMTTYPE=image/jpeg:https://findingconnecticut.com/wp-content/upload
 s/2024/05/Clear-Farmer-Logo.jpg
CATEGORIES:Cromwell
LOCATION:Cromwell Farmers Market\, 1 River Rd\, Cromwell\, Connecticut\, 06
 416\, New England\, United States
X-APPLE-STRUCTURED-LOCATION;VALUE=URI;X-ADDRESS=1 River Rd\, Cromwell\, Con
 necticut\, 06416\, New England\, United States;X-APPLE-RADIUS=100;X-TITLE=
 Cromwell Farmers Market:geo:0,0
END:VEVENT
BEGIN:VTIMEZONE
TZID:America/New_York
X-LIC-LOCATION:America/New_York
BEGIN:DAYLIGHT
DTSTART:20240310T030000
TZOFFSETFROM:-0500
TZOFFSETTO:-0400
TZNAME:EDT
END:DAYLIGHT
END:VTIMEZONE
END:VCALENDAR