BEGIN:VCALENDAR
VERSION:2.0
PRODID:-//wp-events-plugin.com//7.2.3.1//EN
TZID:America/New_York
X-WR-TIMEZONE:America/New_York
BEGIN:VEVENT
UID:1981@findingconnecticut.com
DTSTART;TZID=America/New_York:20230721T170000
DTEND;TZID=America/New_York:20230721T200000
DTSTAMP:20230719T154509Z
URL:https://findingconnecticut.com/events/county-steel/
SUMMARY:Country Steel
DESCRIPTION:Country Steel\nJuly 21\, 2023\nClick here for more information\
 n\nTo add an event please email us\, we monitor for spam. We need a photo\
 , description and website for each submission - We do not accept submissio
 ns that are within the next 3 days. submissions at findingconnecticut.com\
 n\n[caption id="attachment_16083" align="alignnone" width="300"] shop.find
 ingconnecticut.com[/caption]\n\n 
ATTACH;FMTTYPE=image/jpeg:https://findingconnecticut.com/wp-content/upload
 s/2023/07/Cornwall-Park-Recreations-July-Fest-2023-1.png
CATEGORIES:Cornwall
LOCATION:Cornwall Village Green\, 24 Pine Street\, Cornwall\, Connecticut \
 , 06753\, New England\, United States
X-APPLE-STRUCTURED-LOCATION;VALUE=URI;X-ADDRESS=24 Pine Street\, Cornwall\,
  Connecticut \, 06753\, New England\, United States;X-APPLE-RADIUS=100;X-T
 ITLE=Cornwall Village Green:geo:0,0
END:VEVENT
BEGIN:VTIMEZONE
TZID:America/New_York
X-LIC-LOCATION:America/New_York
BEGIN:DAYLIGHT
DTSTART:20230312T030000
TZOFFSETFROM:-0500
TZOFFSETTO:-0400
TZNAME:EDT
END:DAYLIGHT
END:VTIMEZONE
END:VCALENDAR