BEGIN:VCALENDAR
VERSION:2.0
PRODID:-//wp-events-plugin.com//7.2.3.1//EN
TZID:America/New_York
X-WR-TIMEZONE:America/New_York
BEGIN:VEVENT
UID:731@findingconnecticut.com
DTSTART;TZID=America/New_York:20230719T193000
DTEND;TZID=America/New_York:20230719T223000
DTSTAMP:20230324T015612Z
URL:https://findingconnecticut.com/events/counting-crows-with-dashboard-co
 nfessional/
SUMMARY:Counting Crows with Dashboard Confessional
DESCRIPTION:Counting Crows with Dashboard Confessional \nJuly 19\, 2023 •
  7:30 PM\n\n   Click here for more information \n\n   Hartford Health
 care Amphitheater\n   500 Broad Street\n   Bridgeport\, CT 06604\n\nTo
  add an event please email us\, we monitor for spam. We need a photo\, des
 cription and website for each submission - We do not accept submissions th
 at are within the next 3 days. submissions@findingconnecticut.com\n\n[capt
 ion id="attachment_16083" align="alignnone" width="300"] shop.findingconne
 cticut.com[/caption]
ATTACH;FMTTYPE=image/jpeg:https://findingconnecticut.com/wp-content/upload
 s/2023/03/CountingCrows_Admat_12.5x12.5.jpg
CATEGORIES:Bridgeport
LOCATION:Hartford HealthCare Amphitheater\, 500 Broad St\, \, Bridgeport\, 
 \, Connecticut\, \, 06604\,\, New England\, \, United States
X-APPLE-STRUCTURED-LOCATION;VALUE=URI;X-ADDRESS=500 Broad St\, \, Bridgepor
 t\, \, Connecticut\, \, 06604\,\, New England\, \, United States;X-APPLE-R
 ADIUS=100;X-TITLE=Hartford HealthCare Amphitheater:geo:0,0
END:VEVENT
BEGIN:VTIMEZONE
TZID:America/New_York
X-LIC-LOCATION:America/New_York
BEGIN:DAYLIGHT
DTSTART:20230312T030000
TZOFFSETFROM:-0500
TZOFFSETTO:-0400
TZNAME:EDT
END:DAYLIGHT
END:VTIMEZONE
END:VCALENDAR