BEGIN:VCALENDAR
VERSION:2.0
PRODID:-//wp-events-plugin.com//7.2.3.1//EN
TZID:America/New_York
X-WR-TIMEZONE:America/New_York
BEGIN:VEVENT
UID:1917@findingconnecticut.com
DTSTART;TZID=America/New_York;VALUE=DATE:20230729
DTEND;TZID=America/New_York;VALUE=DATE:20230730
DTSTAMP:20230714T201928Z
URL:https://findingconnecticut.com/events/cornwall-day/
SUMMARY:Cornwall Day
DESCRIPTION:Cornwall Day\nJuly 29\, 2023\nClick here for more information\n
 \nTo add an event please email us\, we monitor for spam. We need a photo\,
  description and website for each submission - We do not accept submission
 s that are within the next 3 days. submissions at findingconnecticut.com\n
 \n[caption id="attachment_16083" align="alignnone" width="300"] shop.findi
 ngconnecticut.com[/caption]\n\n 
ATTACH;FMTTYPE=image/jpeg:https://findingconnecticut.com/wp-content/upload
 s/2023/07/West_Cornwall_covered_bridge_09.jpg
CATEGORIES:Cornwall
LOCATION:Cornwall\, Town Street S\, Cornwall\, Connecticut \, 06796\, New E
 ngland\, United States
X-APPLE-STRUCTURED-LOCATION;VALUE=URI;X-ADDRESS=Town Street S\, Cornwall\, 
 Connecticut \, 06796\, New England\, United States;X-APPLE-RADIUS=100;X-TI
 TLE=Cornwall:geo:0,0
END:VEVENT
BEGIN:VTIMEZONE
TZID:America/New_York
X-LIC-LOCATION:America/New_York
BEGIN:DAYLIGHT
DTSTART:20230312T030000
TZOFFSETFROM:-0500
TZOFFSETTO:-0400
TZNAME:EDT
END:DAYLIGHT
END:VTIMEZONE
END:VCALENDAR