BEGIN:VCALENDAR
VERSION:2.0
PRODID:-//wp-events-plugin.com//7.2.3.1//EN
TZID:America/New_York
X-WR-TIMEZONE:America/New_York
BEGIN:VEVENT
UID:2507@findingconnecticut.com
DTSTART;TZID=America/New_York:20240213T200000
DTEND;TZID=America/New_York:20240213T223000
DTSTAMP:20230826T162520Z
URL:https://findingconnecticut.com/events/corinne-bailey-rae-2/
SUMMARY:Corinne Bailey Rae
DESCRIPTION:Corinne Bailey Rae\nSeptember 9\, 2023\n Click here for more i
 nformation \n\n Ridgefield Playhouse \n80 East Ridge\nRidgefield\, CT 0
 6877\n\nTo add an event please email us\, we monitor for spam. We need a p
 hoto\, description and website for each submission - We do not accept subm
 issions that are within the next 3 days. submissions at findingconnecticut
 .com  \n\n[caption id="attachment_16083" align="alignnone" width="300"] 
 shop.findingconnecticut.com[/caption]
ATTACH;FMTTYPE=image/jpeg:https://findingconnecticut.com/wp-content/upload
 s/2023/08/unnamed-5-1.jpg
CATEGORIES:Ridgefield
LOCATION:Ridgefield Playhouse\, 80 E Ridge Rd\, Ridgefield\, Connecticut\, 
 06877\, New England\, United States
X-APPLE-STRUCTURED-LOCATION;VALUE=URI;X-ADDRESS=80 E Ridge Rd\, Ridgefield\
 , Connecticut\, 06877\, New England\, United States;X-APPLE-RADIUS=100;X-T
 ITLE=Ridgefield Playhouse:geo:0,0
END:VEVENT
BEGIN:VTIMEZONE
TZID:America/New_York
X-LIC-LOCATION:America/New_York
BEGIN:STANDARD
DTSTART:20231105T010000
TZOFFSETFROM:-0400
TZOFFSETTO:-0500
TZNAME:EST
END:STANDARD
END:VTIMEZONE
END:VCALENDAR