BEGIN:VCALENDAR
VERSION:2.0
PRODID:-//wp-events-plugin.com//7.2.3.1//EN
TZID:America/New_York
X-WR-TIMEZONE:America/New_York
BEGIN:VEVENT
UID:5850@findingconnecticut.com
DTSTART;TZID=America/New_York:20240524T120000
DTEND;TZID=America/New_York:20240524T160000
DTSTAMP:20240504T222630Z
URL:https://findingconnecticut.com/events/convergence-2024-05-24/
SUMMARY:CONVERGENCE
DESCRIPTION:CONVERGENCE\n Click here for more information \n\nCity Galler
 y\n994 State Street\nNew Haven\, CT 06511\n\nShare your City Gallery exper
 ience with us by using #findingconnecticut on Instagram\n\nClick here fo
 r more information about City Gallery\nClick here for the latest news at C
 ity Gallery\nClick here for the upcoming events at City Gallery\nClick her
 e for the latest news in New Haven\nClick here for the upcoming events in 
 New Haven\nClick here for the latest news in New Haven County\nClick here 
 for the upcoming events in New Haven County\n\n Click here to return to F
 inding Connecticut's home page\n\nTo add an event please email us\, we mon
 itor for spam. We need a photo\, description and website for each submissi
 on - We do not accept submissions that are within the next 3 days. submiss
 ions at findingconnecticut.com
ATTACH;FMTTYPE=image/jpeg:https://findingconnecticut.com/wp-content/upload
 s/2024/04/CONVERGENCE-2-copy-JPG-FINAL.jpg
CATEGORIES:New Haven
LOCATION:City Gallery\, 994 State Street \, New Haven\, Connecticut\, 06511
 \, New England \, United States
X-APPLE-STRUCTURED-LOCATION;VALUE=URI;X-ADDRESS=994 State Street \, New Hav
 en\, Connecticut\, 06511\, New England \, United States;X-APPLE-RADIUS=100
 ;X-TITLE=City Gallery:geo:0,0
END:VEVENT
BEGIN:VTIMEZONE
TZID:America/New_York
X-LIC-LOCATION:America/New_York
BEGIN:DAYLIGHT
DTSTART:20240310T030000
TZOFFSETFROM:-0500
TZOFFSETTO:-0400
TZNAME:EDT
END:DAYLIGHT
END:VTIMEZONE
END:VCALENDAR