BEGIN:VCALENDAR
VERSION:2.0
PRODID:-//wp-events-plugin.com//7.2.3.1//EN
TZID:America/New_York
X-WR-TIMEZONE:America/New_York
BEGIN:VEVENT
UID:1292@findingconnecticut.com
DTSTART;TZID=America/New_York:20230716T110000
DTEND;TZID=America/New_York:20230716T150000
DTSTAMP:20230523T214943Z
URL:https://findingconnecticut.com/events/connecticut-pizza-and-brew-fest/
SUMMARY:Connecticut Pizza and Brew Fest
DESCRIPTION:Connecticut Pizza and Brew Fest\nJuly 16\, 2023 • 11am-3pm\n\
 n Click here for more information \n\n Hartford Healthcare Amphitheater
 \n500 Broad Street\n Bridgeport\, CT 06604\n\n To add an event please em
 ail us\, we monitor for spam. We need a photo\, description and website fo
 r each submission - We do not accept submissions that are within the next 
 3 days. submissions at findingconnecticut.com \n\n\n[caption id="attachme
 nt_16083" align="alignnone" width="300"] shop.findingconnecticut.com[/capt
 ion]
ATTACH;FMTTYPE=image/jpeg:https://findingconnecticut.com/wp-content/upload
 s/2023/05/unnamed-1-1.png
CATEGORIES:Bridgeport
LOCATION:Hartford HealthCare Amphitheater\, 500 Broad St\, \, Bridgeport\, 
 \, Connecticut\, \, 06604\,\, New England\, \, United States
X-APPLE-STRUCTURED-LOCATION;VALUE=URI;X-ADDRESS=500 Broad St\, \, Bridgepor
 t\, \, Connecticut\, \, 06604\,\, New England\, \, United States;X-APPLE-R
 ADIUS=100;X-TITLE=Hartford HealthCare Amphitheater:geo:0,0
END:VEVENT
BEGIN:VTIMEZONE
TZID:America/New_York
X-LIC-LOCATION:America/New_York
BEGIN:DAYLIGHT
DTSTART:20230312T030000
TZOFFSETFROM:-0500
TZOFFSETTO:-0400
TZNAME:EDT
END:DAYLIGHT
END:VTIMEZONE
END:VCALENDAR