BEGIN:VCALENDAR
VERSION:2.0
PRODID:-//wp-events-plugin.com//7.2.3.1//EN
TZID:America/New_York
X-WR-TIMEZONE:America/New_York
BEGIN:VEVENT
UID:2007@findingconnecticut.com
DTSTART;TZID=America/New_York:20230729T200000
DTEND;TZID=America/New_York:20230729T223000
DTSTAMP:20230721T000435Z
URL:https://findingconnecticut.com/events/comedy-night-at-mtc/
SUMMARY:Comedy Night at MTC
DESCRIPTION:Comedy Night at MTC\nJuly 29\, 2023 • 8 PM\nClick here for mo
 re information \n\n Music Theatre of Connecticut \n509 Westport Ave\nNor
 walk\, CT 06851\n\nTo add an event please email us\, we monitor for spam. 
 We need a photo\, description and website for each submission - We do not 
 accept submissions that are within the next 3 days. submissions at finding
 connecticut.com\n\n[caption id="attachment_16083" align="alignnone" width=
 "300"] shop.findingconnecticut.com[/caption]
ATTACH;FMTTYPE=image/jpeg:https://findingconnecticut.com/wp-content/upload
 s/2023/07/MTC-Comedy-Night-SQUARE.png
CATEGORIES:Norwalk
LOCATION:Music Theatre of Connecticut\,  509 Westport Ave\, \, Norwalk\, \,
  Connecticut \, 06851\, New England\, United States
X-APPLE-STRUCTURED-LOCATION;VALUE=URI;X-ADDRESS= 509 Westport Ave\, \, Norw
 alk\, \, Connecticut \, 06851\, New England\, United States;X-APPLE-RADIUS
 =100;X-TITLE=Music Theatre of Connecticut:geo:0,0
END:VEVENT
BEGIN:VTIMEZONE
TZID:America/New_York
X-LIC-LOCATION:America/New_York
BEGIN:DAYLIGHT
DTSTART:20230312T030000
TZOFFSETFROM:-0500
TZOFFSETTO:-0400
TZNAME:EDT
END:DAYLIGHT
END:VTIMEZONE
END:VCALENDAR