BEGIN:VCALENDAR
VERSION:2.0
PRODID:-//wp-events-plugin.com//7.2.3.1//EN
TZID:America/New_York
X-WR-TIMEZONE:America/New_York
BEGIN:VEVENT
UID:5199@findingconnecticut.com
DTSTART;TZID=America/New_York:20240511T190000
DTEND;TZID=America/New_York:20240511T223000
DTSTAMP:20240127T025606Z
URL:https://findingconnecticut.com/events/colorado-springs-switchbacks-fc-
 vs-hartford-athletic/
SUMMARY:Colorado Springs Switchbacks FC vs Hartford Athletic
DESCRIPTION:Colorado Springs Switchbacks FC  vs Hartford Athletic\nMay 11\
 , 2024  • 7 PM\n\n Click here for the 2024 home schedule\n Click here
  for the latest Hartford Athletic news \n\n Trinity Health Stadium\n250 
 Huyshope Ave\nHartford\, CT 06106\n\nTo add an event please email us\, we 
 monitor for spam. We need a photo\, description and website for each submi
 ssion - We do not accept submissions that are within the next 3 days. subm
 issions at findingconnecticut.com\n\n[caption id="attachment_16083" align=
 "alignnone" width="300"] shop.findingconnecticut.com[/caption]\n\n \n\n&n
 bsp\;
ATTACH;FMTTYPE=image/jpeg:https://findingconnecticut.com/wp-content/upload
 s/2021/12/unnamed-9.png
CATEGORIES:Hartford
LOCATION:Trinity Health Stadium\, 250 Huyshope Ave\, Hartford\, Connecticut
 \, 06106\, New England \, United States
X-APPLE-STRUCTURED-LOCATION;VALUE=URI;X-ADDRESS=250 Huyshope Ave\, Hartford
 \, Connecticut\, 06106\, New England \, United States;X-APPLE-RADIUS=100;X
 -TITLE=Trinity Health Stadium:geo:0,0
END:VEVENT
BEGIN:VTIMEZONE
TZID:America/New_York
X-LIC-LOCATION:America/New_York
BEGIN:DAYLIGHT
DTSTART:20240310T030000
TZOFFSETFROM:-0500
TZOFFSETTO:-0400
TZNAME:EDT
END:DAYLIGHT
END:VTIMEZONE
END:VCALENDAR