BEGIN:VCALENDAR
VERSION:2.0
PRODID:-//wp-events-plugin.com//7.2.3.1//EN
TZID:America/New_York
X-WR-TIMEZONE:America/New_York
BEGIN:VEVENT
UID:2100@findingconnecticut.com
DTSTART;TZID=America/New_York:20230804T120000
DTEND;TZID=America/New_York:20230804T170000
DTSTAMP:20230727T180526Z
URL:https://findingconnecticut.com/events/color-6/
SUMMARY:Color
DESCRIPTION:Colors\nAugust 4\,  2023 •  12 pm - 5 pm\n Click here for 
 more information \n\n Art/Place Gallery\n70 Stamford Street\nFairfield\,
  Connecticut 06824\n\nTo add an event please email us\, we monitor for spa
 m. We need a photo\, description and website for each submission - We do n
 ot accept submissions that are within the next 3 days. submissions at find
 ingconnecticut.com  \n\n[caption id="attachment_16083" align="alignnone"
  width="300"] shop.findingconnecticut.com[/caption]\n\n&nbsp\;
ATTACH;FMTTYPE=image/jpeg:https://findingconnecticut.com/wp-content/upload
 s/2023/07/Alice-Katzjpg-2.jpg
CATEGORIES:Fairfield
LOCATION:Art/Place Gallery\, 70 Stanford Street\, Fairfield\, Connecticut\,
  06824\, New England \, United States
X-APPLE-STRUCTURED-LOCATION;VALUE=URI;X-ADDRESS=70 Stanford Street\, Fairfi
 eld\, Connecticut\, 06824\, New England \, United States;X-APPLE-RADIUS=10
 0;X-TITLE=Art/Place Gallery:geo:0,0
END:VEVENT
BEGIN:VTIMEZONE
TZID:America/New_York
X-LIC-LOCATION:America/New_York
BEGIN:DAYLIGHT
DTSTART:20230312T030000
TZOFFSETFROM:-0500
TZOFFSETTO:-0400
TZNAME:EDT
END:DAYLIGHT
END:VTIMEZONE
END:VCALENDAR