BEGIN:VCALENDAR
VERSION:2.0
PRODID:-//wp-events-plugin.com//7.2.3.1//EN
TZID:America/New_York
X-WR-TIMEZONE:America/New_York
BEGIN:VEVENT
UID:13850@findingconnecticut.com
DTSTART;TZID=America/New_York:20260606T200000
DTEND;TZID=America/New_York:20260606T223000
DTSTAMP:20260216T172506Z
URL:https://findingconnecticut.com/events/cold-with-sierra-marie-swan-spac
 e-ballroom-june-6-2026/
SUMMARY:Cold with Sierra Marie Swan
DESCRIPTION:Cold with Sierra Marie Swan\nJune 6\, 2026  •  8 PM\n Clic
 k here for more information \n\n Space Ballroom\n425 Treadwell Street\nH
 amden\, CT 06514\nAs of March 2025\, all event listings require payment.\n
 To submit your event\, please send the event details along with a photo an
 d/or logo to submissions at findingconnecticut dot com. You can complete y
 our payment here\nYour event will be published within 24 hours after both
  payment and all required information have been received.\nWe offer discou
 nts for multiple event listings.\nThank you for supporting Finding Connec
 ticut—your participation helps us grow our website and brand.\n(We do no
 t publish any content that has to do with areas outside of Connecticut. If
  you are looking to post on our Hudson Valley or New York City pages\, the
 n contact us via email.)\n\n\n[caption id="attachment_16083" align="alignn
 one" width="300"] shop.findingconnecticut.com[/caption]\n\n 
ATTACH;FMTTYPE=image/jpeg:https://findingconnecticut.com/wp-content/upload
 s/2022/02/spaceballroom_logo_biz.jpg
CATEGORIES:Hamden
LOCATION:Space Ballroom\, 295 Treadwell St\,\,  Hamden\, \, Connecticut\, \
 , 06514\, United States
X-APPLE-STRUCTURED-LOCATION;VALUE=URI;X-ADDRESS=295 Treadwell St\,\,  Hamde
 n\, \, Connecticut\, \, 06514\, United States;X-APPLE-RADIUS=100;X-TITLE=S
 pace Ballroom:geo:0,0
END:VEVENT
BEGIN:VTIMEZONE
TZID:America/New_York
X-LIC-LOCATION:America/New_York
BEGIN:DAYLIGHT
DTSTART:20260308T030000
TZOFFSETFROM:-0500
TZOFFSETTO:-0400
TZNAME:EDT
END:DAYLIGHT
END:VTIMEZONE
END:VCALENDAR