BEGIN:VCALENDAR
VERSION:2.0
PRODID:-//wp-events-plugin.com//7.2.3.1//EN
TZID:America/New_York
X-WR-TIMEZONE:America/New_York
BEGIN:VEVENT
UID:828@findingconnecticut.com
DTSTART;TZID=America/New_York:20230806T090000
DTEND;TZID=America/New_York:20230806T130000
DTSTAMP:20230327T011213Z
URL:https://findingconnecticut.com/events/colchester-farmers-market-8/
SUMMARY:Colchester Farmers' Market
DESCRIPTION:Colchester Farmers' Market\nAugust 6\, 2023  •  9 am - 1 pm
 \n•\n Colchester Town Green\n97 Hayward Avenue\nColchester\, CT 06415\n
 •\n\nTo add an event please email us\, we monitor for spam. We need a ph
 oto\, description and website for each submission - We do not accept submi
 ssions that are within the next 3 days. submissions@findingconnecticut.com
 \n•\n\n[caption id="attachment_16083" align="alignnone" width="300"] sho
 p.findingconnecticut.com[/caption]
ATTACH;FMTTYPE=image/jpeg:https://findingconnecticut.com/wp-content/upload
 s/2023/03/326498433_690059599275019_3892342317629155430_n.jpg
CATEGORIES:Colchester
LOCATION:Colchester Farmers' Market\, 97 Hayward Avenue\, Colchester\, Conn
 ecticut \, 06415\, New England\, United States
X-APPLE-STRUCTURED-LOCATION;VALUE=URI;X-ADDRESS=97 Hayward Avenue\, Colches
 ter\, Connecticut \, 06415\, New England\, United States;X-APPLE-RADIUS=10
 0;X-TITLE=Colchester Farmers' Market:geo:0,0
END:VEVENT
BEGIN:VTIMEZONE
TZID:America/New_York
X-LIC-LOCATION:America/New_York
BEGIN:DAYLIGHT
DTSTART:20230312T030000
TZOFFSETFROM:-0500
TZOFFSETTO:-0400
TZNAME:EDT
END:DAYLIGHT
END:VTIMEZONE
END:VCALENDAR