BEGIN:VCALENDAR
VERSION:2.0
PRODID:-//wp-events-plugin.com//7.2.3.1//EN
TZID:America/New_York
X-WR-TIMEZONE:America/New_York
BEGIN:VEVENT
UID:2428@findingconnecticut.com
DTSTART;TZID=America/New_York:20230909T160000
DTEND;TZID=America/New_York:20230909T183000
DTSTAMP:20230823T141544Z
URL:https://findingconnecticut.com/events/cocktails-and-preview-buying-at-
 the-sale-of-rare-and-unusual-plants/
SUMMARY:Cocktails and Preview Buying at the Sale of Rare and Unusual Plants
DESCRIPTION:Cocktails and Preview Buying at the Sale of Rare and Unusual Pl
 ants\nSeptember 9\, 2023\n Click here for more information \n\nTo add an
  event please email us\, we monitor for spam. We need a photo\, descriptio
 n and website for each submission - We do not accept submissions that are 
 within the next 3 days. submissions at findingconnecticut.com  \n\n[capt
 ion id="attachment_16083" align="alignnone" width="300"] shop.findingconne
 cticut.com[/caption]
ATTACH;FMTTYPE=image/jpeg:https://findingconnecticut.com/wp-content/upload
 s/2023/08/Cocktails-and-Preview-Sale-of-Rare-and-Unusual-Plants.png
CATEGORIES:Washington
END:VEVENT
BEGIN:VTIMEZONE
TZID:America/New_York
X-LIC-LOCATION:America/New_York
BEGIN:DAYLIGHT
DTSTART:20230312T030000
TZOFFSETFROM:-0500
TZOFFSETTO:-0400
TZNAME:EDT
END:DAYLIGHT
END:VTIMEZONE
END:VCALENDAR